BEGIN:VCALENDAR
VERSION:2.0
PRODID:-//Централизованная религиозная организация Римско-католическая Архиепархия Божией Матери в Москве - ECPv6.15.20//NONSGML v1.0//EN
CALSCALE:GREGORIAN
METHOD:PUBLISH
X-ORIGINAL-URL:https://cathmos.ru
X-WR-CALDESC:Мероприятия для Централизованная религиозная организация Римско-католическая Архиепархия Божией Матери в Москве
REFRESH-INTERVAL;VALUE=DURATION:PT1H
X-Robots-Tag:noindex
X-PUBLISHED-TTL:PT1H
BEGIN:VTIMEZONE
TZID:Europe/Moscow
BEGIN:STANDARD
TZOFFSETFROM:+0300
TZOFFSETTO:+0300
TZNAME:MSK
DTSTART:20250101T000000
END:STANDARD
END:VTIMEZONE
BEGIN:VEVENT
DTSTART;VALUE=DATE:20260401
DTEND;VALUE=DATE:20260402
DTSTAMP:20260421T055744
CREATED:20250925T083520Z
LAST-MODIFIED:20250925T083520Z
UID:18915-1775001600-1775087999@cathmos.ru
SUMMARY:Москва - Месса освящения мира и благословения елея
DESCRIPTION:
URL:https://cathmos.ru/event/moskva-messa-osvyashheniya-mira-i-blagosloveniya-eleya/
CATEGORIES:Церковный календарь
END:VEVENT
END:VCALENDAR