BEGIN:VCALENDAR
VERSION:2.0
PRODID:-//Централизованная религиозная организация Римско-католическая Архиепархия Божией Матери в Москве - ECPv6.15.20//NONSGML v1.0//EN
CALSCALE:GREGORIAN
METHOD:PUBLISH
X-ORIGINAL-URL:https://cathmos.ru
X-WR-CALDESC:Мероприятия для Централизованная религиозная организация Римско-католическая Архиепархия Божией Матери в Москве
REFRESH-INTERVAL;VALUE=DURATION:PT1H
X-Robots-Tag:noindex
X-PUBLISHED-TTL:PT1H
BEGIN:VTIMEZONE
TZID:Europe/Moscow
BEGIN:STANDARD
TZOFFSETFROM:+0300
TZOFFSETTO:+0300
TZNAME:MSK
DTSTART:20240101T000000
END:STANDARD
END:VTIMEZONE
BEGIN:VEVENT
DTSTART;VALUE=DATE:20251026
DTEND;VALUE=DATE:20251027
DTSTAMP:20260422T084354
CREATED:20250925T075217Z
LAST-MODIFIED:20250925T094034Z
UID:18855-1761436800-1761523199@cathmos.ru
SUMMARY:Все приходы - "Сбор милосердия"
DESCRIPTION:
URL:https://cathmos.ru/event/vse-prihody-sbor-miloserdiya/
CATEGORIES:Целевые сборы
END:VEVENT
BEGIN:VEVENT
DTSTART;TZID=Europe/Moscow:20251026T100000
DTEND;TZID=Europe/Moscow:20251026T113000
DTSTAMP:20260422T084354
CREATED:20251002T082213Z
LAST-MODIFIED:20251002T082213Z
UID:19043-1761472800-1761478200@cathmos.ru
SUMMARY:Святая Месса в Кафедральном соборе – 10:00; сразу после – встреча «Школы христианства»
DESCRIPTION:
URL:https://cathmos.ru/event/svyataya-messa-v-kafedralnom-sobore-1000-srazu-posle-vstrecha-shkoly-hristianstva/
CATEGORIES:Календарь Архиепископа
END:VEVENT
BEGIN:VEVENT
DTSTART;TZID=Europe/Moscow:20251026T100000
DTEND;TZID=Europe/Moscow:20251026T113000
DTSTAMP:20260422T084354
CREATED:20251002T082932Z
LAST-MODIFIED:20251002T082932Z
UID:19052-1761472800-1761478200@cathmos.ru
SUMMARY:Святая Месса в монастыре св. Антония Чудотворца под предстоятельством вспомогательного епископа
DESCRIPTION:
URL:https://cathmos.ru/event/svyataya-messa-v-monastyre-sv-antoniya-chudotvorcza-pod-predstoyatelstvom-vspomogatelnogo-episkopa/
CATEGORIES:Календарь вспомогательного епископа
END:VEVENT
END:VCALENDAR