BEGIN:VCALENDAR
VERSION:2.0
PRODID:-//Централизованная религиозная организация Римско-католическая Архиепархия Божией Матери в Москве - ECPv6.15.20//NONSGML v1.0//EN
CALSCALE:GREGORIAN
METHOD:PUBLISH
X-WR-CALNAME:Централизованная религиозная организация Римско-католическая Архиепархия Божией Матери в Москве
X-ORIGINAL-URL:https://cathmos.ru
X-WR-CALDESC:Мероприятия для Централизованная религиозная организация Римско-католическая Архиепархия Божией Матери в Москве
REFRESH-INTERVAL;VALUE=DURATION:PT1H
X-Robots-Tag:noindex
X-PUBLISHED-TTL:PT1H
BEGIN:VTIMEZONE
TZID:Europe/Moscow
BEGIN:STANDARD
TZOFFSETFROM:+0300
TZOFFSETTO:+0300
TZNAME:MSK
DTSTART:20240101T000000
END:STANDARD
END:VTIMEZONE
BEGIN:VEVENT
DTSTART;VALUE=DATE:20251025
DTEND;VALUE=DATE:20251026
DTSTAMP:20260422T101847
CREATED:20251002T082146Z
LAST-MODIFIED:20251002T082146Z
UID:19041-1761350400-1761436799@cathmos.ru
SUMMARY:Каритативная деятельность у сестер Матери Терезы; участие в праздновании 75-летнего юбилея Странствующей Матери Божьей
DESCRIPTION:
URL:https://cathmos.ru/event/karitativnaya-deyatelnost-u-sester-materi-terezy-uchastie-v-prazdnovanii-75-letnego-yubileya-stranstvuyushhej-materi-bozhej/
CATEGORIES:Календарь Архиепископа
END:VEVENT
END:VCALENDAR