BEGIN:VCALENDAR
VERSION:2.0
PRODID:-//Централизованная религиозная организация Римско-католическая Архиепархия Божией Матери в Москве - ECPv6.15.20//NONSGML v1.0//EN
CALSCALE:GREGORIAN
METHOD:PUBLISH
X-WR-CALNAME:Централизованная религиозная организация Римско-католическая Архиепархия Божией Матери в Москве
X-ORIGINAL-URL:https://cathmos.ru
X-WR-CALDESC:Мероприятия для Централизованная религиозная организация Римско-католическая Архиепархия Божией Матери в Москве
REFRESH-INTERVAL;VALUE=DURATION:PT1H
X-Robots-Tag:noindex
X-PUBLISHED-TTL:PT1H
BEGIN:VTIMEZONE
TZID:Europe/Moscow
BEGIN:STANDARD
TZOFFSETFROM:+0300
TZOFFSETTO:+0300
TZNAME:MSK
DTSTART:20240101T000000
END:STANDARD
END:VTIMEZONE
BEGIN:VEVENT
DTSTART;VALUE=DATE:20251023
DTEND;VALUE=DATE:20251024
DTSTAMP:20260422T140032
CREATED:20251002T082102Z
LAST-MODIFIED:20251002T082102Z
UID:19037-1761177600-1761263999@cathmos.ru
SUMMARY:Встреча с с. Марией Ассунтой Сумико Иноуэ FMA\, Советницей\, делегатом Генеральной настоятельницы Дочерей Марии – Помощницы христиан; возможность исповеди у Архиепископа – 18:00; Святая Месса в Кафедральном соборе – 19:00; встреча с Молодежным центром
DESCRIPTION:
URL:https://cathmos.ru/event/vstrecha-s-s-mariej-assuntoj-sumiko-inoue-fma-sovetniczej-delegatom-generalnoj-nastoyatelniczy-docherej-marii-pomoshhniczy-hristian-vozmozhnost-ispovedi-u-arhiepiskopa-1800-s/
CATEGORIES:Календарь Архиепископа
END:VEVENT
END:VCALENDAR