BEGIN:VCALENDAR
VERSION:2.0
PRODID:-//Централизованная религиозная организация Римско-католическая Архиепархия Божией Матери в Москве - ECPv6.15.20//NONSGML v1.0//EN
CALSCALE:GREGORIAN
METHOD:PUBLISH
X-WR-CALNAME:Централизованная религиозная организация Римско-католическая Архиепархия Божией Матери в Москве
X-ORIGINAL-URL:https://cathmos.ru
X-WR-CALDESC:Мероприятия для Централизованная религиозная организация Римско-католическая Архиепархия Божией Матери в Москве
REFRESH-INTERVAL;VALUE=DURATION:PT1H
X-Robots-Tag:noindex
X-PUBLISHED-TTL:PT1H
BEGIN:VTIMEZONE
TZID:Europe/Moscow
BEGIN:STANDARD
TZOFFSETFROM:+0300
TZOFFSETTO:+0300
TZNAME:MSK
DTSTART:20240101T000000
END:STANDARD
END:VTIMEZONE
BEGIN:VEVENT
DTSTART;VALUE=DATE:20251014
DTEND;VALUE=DATE:20251021
DTSTAMP:20260423T013811
CREATED:20240918T180350Z
LAST-MODIFIED:20251002T083037Z
UID:16107-1760400000-1761004799@cathmos.ru
SUMMARY:Всероссийское паломничество в Рим
DESCRIPTION:
URL:https://cathmos.ru/event/vserossijskoe-palomnichestvo-v-rim/
CATEGORIES:Календарь Архиепископа,Календарь вспомогательного епископа,События
END:VEVENT
END:VCALENDAR