BEGIN:VCALENDAR
VERSION:2.0
PRODID:-//Централизованная религиозная организация Римско-католическая Архиепархия Божией Матери в Москве - ECPv6.15.20//NONSGML v1.0//EN
CALSCALE:GREGORIAN
METHOD:PUBLISH
X-WR-CALNAME:Централизованная религиозная организация Римско-католическая Архиепархия Божией Матери в Москве
X-ORIGINAL-URL:https://cathmos.ru
X-WR-CALDESC:Мероприятия для Централизованная религиозная организация Римско-католическая Архиепархия Божией Матери в Москве
REFRESH-INTERVAL;VALUE=DURATION:PT1H
X-Robots-Tag:noindex
X-PUBLISHED-TTL:PT1H
BEGIN:VTIMEZONE
TZID:Europe/Moscow
BEGIN:STANDARD
TZOFFSETFROM:+0300
TZOFFSETTO:+0300
TZNAME:MSK
DTSTART:20240101T000000
END:STANDARD
END:VTIMEZONE
BEGIN:VEVENT
DTSTART;TZID=Europe/Moscow:20251012T120000
DTEND;TZID=Europe/Moscow:20251012T133000
DTSTAMP:20260423T082356
CREATED:20251002T082827Z
LAST-MODIFIED:20251002T082840Z
UID:19049-1760270400-1760275800@cathmos.ru
SUMMARY:Святая Месса с миропомазанием в соборе Успения Пресвятой Девы Марии под предстоятельством вспомогательного епископа
DESCRIPTION:
URL:https://cathmos.ru/event/svyataya-messa-s-miropomazaniem-v-sobore-uspeniya-presvyatoj-devy-marii/
CATEGORIES:Календарь вспомогательного епископа
END:VEVENT
END:VCALENDAR