BEGIN:VCALENDAR
VERSION:2.0
PRODID:-//Централизованная религиозная организация Римско-католическая Архиепархия Божией Матери в Москве - ECPv6.15.20//NONSGML v1.0//EN
CALSCALE:GREGORIAN
METHOD:PUBLISH
X-WR-CALNAME:Централизованная религиозная организация Римско-католическая Архиепархия Божией Матери в Москве
X-ORIGINAL-URL:https://cathmos.ru
X-WR-CALDESC:Мероприятия для Централизованная религиозная организация Римско-католическая Архиепархия Божией Матери в Москве
REFRESH-INTERVAL;VALUE=DURATION:PT1H
X-Robots-Tag:noindex
X-PUBLISHED-TTL:PT1H
BEGIN:VTIMEZONE
TZID:Europe/Moscow
BEGIN:STANDARD
TZOFFSETFROM:+0300
TZOFFSETTO:+0300
TZNAME:MSK
DTSTART:20240101T000000
END:STANDARD
END:VTIMEZONE
BEGIN:VEVENT
DTSTART;VALUE=DATE:20251002
DTEND;VALUE=DATE:20251003
DTSTAMP:20260423T113325
CREATED:20201001T074026Z
LAST-MODIFIED:20250925T094835Z
UID:5983-1759363200-1759449599@cathmos.ru
SUMMARY:Святые ангелы-хранители: память
DESCRIPTION:Согласно традиционному учению Церкви\, ангел-хранитель это ангел\, которому Бог поручил охранять конрктеного человека и помогать ему. В Ветхом Щавете нет термина «ангел-хранитель»\, но есть свидетельства о вере в охраняющих духов. В новом Завете народная вера в ангелов-хранителей засвидетельствована в Деяниях апостолов (деян 12:15) и подтверждается словами Иисуса Христа (Мф 18:10). \nДанные древней христианской письменности свидетельствуют об отсутствиии чёткого учения об ангелах хранителях. в Пастыре Ерма увтерждается\, что ангел-хранитель есть у каждого человека. Амвросий Медиоланский считал\, что у праведника отнимается ангел-хранитель\, чтобы тот самостоятельно боролся со злом и достигал большей славы. По мнению иеронима и Василия Великого\, грех отгоняет от христианина его ангела-хранителя. Учение об ангела-хранителях развил гонорий Августодунский\, утверждавший\, что каждая душа препоручается своему ангелу-хранителю в момент её соединения с телом. Согласно Фоме Аквинскому\, только ангелы низшего порядка исполняют эту функцию; Дунс Скот считал\, что она может быть доверена представителю любого ангельского чина. \nВ IX веке ангелы-хранители почитались в день празднования архангела Михаила — 29 сентября. Самостоятельно празднование памяти ангелов-хранителей в латинском обряде появилось в Португалии в 1513 году; в 1608 году Папа Павел V утвердли в есть ангелов-хранителей отдельный пращдник\, а в 1670 году Папа Климент X ввёл его празднование 2 октября. \nИсточник: Католическая Энциклопедия
URL:https://cathmos.ru/event/svyatye-angely-hraniteli-pamyat/
CATEGORIES:Церковный календарь
ATTACH;FMTTYPE=image/jpeg:https://cathmos.ru/wp-content/uploads/2020/10/your-guardian-angel.jpg
END:VEVENT
BEGIN:VEVENT
DTSTART;TZID=Europe/Moscow:20251002T180000
DTEND;TZID=Europe/Moscow:20251002T203000
DTSTAMP:20260423T113325
CREATED:20251002T081657Z
LAST-MODIFIED:20251002T081657Z
UID:19031-1759428000-1759437000@cathmos.ru
SUMMARY:Возможность исповеди у Архиепископа – 18:00; Святая Месса в Кафедральном соборе с участием членов Комиссии ККЕР по защите несовершеннолетних и уязвимых лиц – 19:00
DESCRIPTION:
URL:https://cathmos.ru/event/vozmozhnost-ispovedi-u-arhiepiskopa-1800-svyataya-messa-v-kafedralnom-sobore-s-uchastiem-chlenov-komissii-kker-po-zashhite-nesovershennoletnih-i-uyazvimyh-licz-1900/
CATEGORIES:Календарь Архиепископа
END:VEVENT
END:VCALENDAR