BEGIN:VCALENDAR
VERSION:2.0
PRODID:-//Централизованная религиозная организация Римско-католическая Архиепархия Божией Матери в Москве - ECPv6.15.20//NONSGML v1.0//EN
CALSCALE:GREGORIAN
METHOD:PUBLISH
X-ORIGINAL-URL:https://cathmos.ru
X-WR-CALDESC:Мероприятия для Централизованная религиозная организация Римско-католическая Архиепархия Божией Матери в Москве
REFRESH-INTERVAL;VALUE=DURATION:PT1H
X-Robots-Tag:noindex
X-PUBLISHED-TTL:PT1H
BEGIN:VTIMEZONE
TZID:Europe/Moscow
BEGIN:STANDARD
TZOFFSETFROM:+0300
TZOFFSETTO:+0300
TZNAME:MSK
DTSTART:20240101T000000
END:STANDARD
END:VTIMEZONE
BEGIN:VEVENT
DTSTART;VALUE=DATE:20250920
DTEND;VALUE=DATE:20250923
DTSTAMP:20260423T131459
CREATED:20250901T175101Z
LAST-MODIFIED:20250901T175101Z
UID:18656-1758326400-1758585599@cathmos.ru
SUMMARY:Участие вспомогательного епископа в торжествах по случаю 25-летия освящения Кафедрального собора в Иркутске
DESCRIPTION:
URL:https://cathmos.ru/event/uchastie-vspomogatelnogo-episkopa-v-torzhestvah-po-sluchayu-25-letiya-osvyashheniya-kafedralnogo-sobora-v-irkutske/
CATEGORIES:Календарь вспомогательного епископа
END:VEVENT
BEGIN:VEVENT
DTSTART;TZID=Europe/Moscow:20250921T100000
DTEND;TZID=Europe/Moscow:20250921T113000
DTSTAMP:20260423T131459
CREATED:20250901T173701Z
LAST-MODIFIED:20250901T173701Z
UID:18638-1758448800-1758454200@cathmos.ru
SUMMARY:Начало пастырского года в Архиепархии – Святая Месса в Кафедральном соборе – 10:00; после окончания – первая встреча «Школы христианства» в этом году
DESCRIPTION:
URL:https://cathmos.ru/event/nachalo-pastyrskogo-goda-v-arhieparhii-svyataya-messa-v-kafedralnom-sobore-1000-posle-okonchaniya-pervaya-vstrecha-shkoly-hristianstva-v-etom-godu/
CATEGORIES:Календарь Архиепископа
END:VEVENT
END:VCALENDAR