BEGIN:VCALENDAR
VERSION:2.0
PRODID:-//Централизованная религиозная организация Римско-католическая Архиепархия Божией Матери в Москве - ECPv6.15.20//NONSGML v1.0//EN
CALSCALE:GREGORIAN
METHOD:PUBLISH
X-ORIGINAL-URL:https://cathmos.ru
X-WR-CALDESC:Мероприятия для Централизованная религиозная организация Римско-католическая Архиепархия Божией Матери в Москве
REFRESH-INTERVAL;VALUE=DURATION:PT1H
X-Robots-Tag:noindex
X-PUBLISHED-TTL:PT1H
BEGIN:VTIMEZONE
TZID:Europe/Moscow
BEGIN:STANDARD
TZOFFSETFROM:+0300
TZOFFSETTO:+0300
TZNAME:MSK
DTSTART:20240101T000000
END:STANDARD
END:VTIMEZONE
BEGIN:VEVENT
DTSTART;VALUE=DATE:20250916
DTEND;VALUE=DATE:20250917
DTSTAMP:20260423T131403
CREATED:20250901T173533Z
LAST-MODIFIED:20250901T173533Z
UID:18634-1757980800-1758067199@cathmos.ru
SUMMARY:Архиепископ принимает участие во встрече о священническом служении в России
DESCRIPTION:
URL:https://cathmos.ru/event/arhiepiskop-prinimaet-uchastie-vo-vstreche-o-svyashhennicheskom-sluzhenii-v-rossii/
CATEGORIES:Календарь Архиепископа
END:VEVENT
END:VCALENDAR