BEGIN:VCALENDAR
VERSION:2.0
PRODID:-//Централизованная религиозная организация Римско-католическая Архиепархия Божией Матери в Москве - ECPv6.15.20//NONSGML v1.0//EN
CALSCALE:GREGORIAN
METHOD:PUBLISH
X-WR-CALNAME:Централизованная религиозная организация Римско-католическая Архиепархия Божией Матери в Москве
X-ORIGINAL-URL:https://cathmos.ru
X-WR-CALDESC:Мероприятия для Централизованная религиозная организация Римско-католическая Архиепархия Божией Матери в Москве
REFRESH-INTERVAL;VALUE=DURATION:PT1H
X-Robots-Tag:noindex
X-PUBLISHED-TTL:PT1H
BEGIN:VTIMEZONE
TZID:Europe/Moscow
BEGIN:STANDARD
TZOFFSETFROM:+0300
TZOFFSETTO:+0300
TZNAME:MSK
DTSTART:20240101T000000
END:STANDARD
END:VTIMEZONE
BEGIN:VEVENT
DTSTART;VALUE=DATE:20250905
DTEND;VALUE=DATE:20250908
DTSTAMP:20260423T130931
CREATED:20250901T173356Z
LAST-MODIFIED:20250901T173356Z
UID:18628-1757030400-1757289599@cathmos.ru
SUMMARY:Юбилейный визит Архиепископа в приход святой Терезы из Лизье в Ухте и пастырский пункт в Сыктывкаре
DESCRIPTION:
URL:https://cathmos.ru/event/yubilejnyj-vizit-arhiepiskopa-v-prihod-svyatoj-terezy-iz-lize-v-uhte-i-pastyrskij-punkt-v-syktyvkare/
CATEGORIES:Календарь Архиепископа
END:VEVENT
BEGIN:VEVENT
DTSTART;VALUE=DATE:20250906
DTEND;VALUE=DATE:20250908
DTSTAMP:20260423T130931
CREATED:20250901T174921Z
LAST-MODIFIED:20250901T174921Z
UID:18652-1757116800-1757289599@cathmos.ru
SUMMARY:Епископ Николай принимает участие в паломничестве в Петрозаводск
DESCRIPTION:
URL:https://cathmos.ru/event/episkop-nikolaj-prinimaet-uchastie-v-palomnichestve-v-petrozavodsk/
CATEGORIES:Календарь вспомогательного епископа
END:VEVENT
BEGIN:VEVENT
DTSTART;VALUE=DATE:20250907
DTEND;VALUE=DATE:20250908
DTSTAMP:20260423T130931
CREATED:20240914T220406Z
LAST-MODIFIED:20250925T094107Z
UID:16045-1757203200-1757289599@cathmos.ru
SUMMARY:Сбор для католических учебных заведений
DESCRIPTION:
URL:https://cathmos.ru/event/sbor-dlya-katolicheskih-uchebnyh-zavedenij/
CATEGORIES:Целевые сборы
END:VEVENT
END:VCALENDAR