BEGIN:VCALENDAR
VERSION:2.0
PRODID:-//Централизованная религиозная организация Римско-католическая Архиепархия Божией Матери в Москве - ECPv6.15.20//NONSGML v1.0//EN
CALSCALE:GREGORIAN
METHOD:PUBLISH
X-ORIGINAL-URL:https://cathmos.ru
X-WR-CALDESC:Мероприятия для Централизованная религиозная организация Римско-католическая Архиепархия Божией Матери в Москве
REFRESH-INTERVAL;VALUE=DURATION:PT1H
X-Robots-Tag:noindex
X-PUBLISHED-TTL:PT1H
BEGIN:VTIMEZONE
TZID:Europe/Moscow
BEGIN:STANDARD
TZOFFSETFROM:+0300
TZOFFSETTO:+0300
TZNAME:MSK
DTSTART:20240101T000000
END:STANDARD
END:VTIMEZONE
BEGIN:VEVENT
DTSTART;VALUE=DATE:20250830
DTEND;VALUE=DATE:20250831
DTSTAMP:20260423T162000
CREATED:20250806T091122Z
LAST-MODIFIED:20250806T091122Z
UID:18537-1756512000-1756598399@cathmos.ru
SUMMARY:Встреча Архиепископа с участниками Юбилейного паломничества Неокатехуменального пути
DESCRIPTION:
URL:https://cathmos.ru/event/vstrecha-arhiepiskopa-s-uchastnikami-yubilejnogo-palomnichestva-neokatehumenalnogo-puti/
CATEGORIES:Календарь Архиепископа
END:VEVENT
END:VCALENDAR