BEGIN:VCALENDAR
VERSION:2.0
PRODID:-//Централизованная религиозная организация Римско-католическая Архиепархия Божией Матери в Москве - ECPv6.15.20//NONSGML v1.0//EN
CALSCALE:GREGORIAN
METHOD:PUBLISH
X-ORIGINAL-URL:https://cathmos.ru
X-WR-CALDESC:Мероприятия для Централизованная религиозная организация Римско-католическая Архиепархия Божией Матери в Москве
REFRESH-INTERVAL;VALUE=DURATION:PT1H
X-Robots-Tag:noindex
X-PUBLISHED-TTL:PT1H
BEGIN:VTIMEZONE
TZID:Europe/Moscow
BEGIN:STANDARD
TZOFFSETFROM:+0300
TZOFFSETTO:+0300
TZNAME:MSK
DTSTART:20240101T000000
END:STANDARD
END:VTIMEZONE
BEGIN:VEVENT
DTSTART;VALUE=DATE:20250823
DTEND;VALUE=DATE:20250827
DTSTAMP:20260424T003827
CREATED:20250801T152040Z
LAST-MODIFIED:20250801T152040Z
UID:18517-1755907200-1756252799@cathmos.ru
SUMMARY:Пастырская поездка вспомогательного епископа в Западный деканат
DESCRIPTION:
URL:https://cathmos.ru/event/pastyrskaya-poezdka-vspomogatelnogo-episkopa-v-zapadnyj-dekanat-2/
CATEGORIES:Календарь вспомогательного епископа
END:VEVENT
END:VCALENDAR