BEGIN:VCALENDAR
VERSION:2.0
PRODID:-//Централизованная религиозная организация Римско-католическая Архиепархия Божией Матери в Москве - ECPv6.15.20//NONSGML v1.0//EN
CALSCALE:GREGORIAN
METHOD:PUBLISH
X-WR-CALNAME:Централизованная религиозная организация Римско-католическая Архиепархия Божией Матери в Москве
X-ORIGINAL-URL:https://cathmos.ru
X-WR-CALDESC:Мероприятия для Централизованная религиозная организация Римско-католическая Архиепархия Божией Матери в Москве
REFRESH-INTERVAL;VALUE=DURATION:PT1H
X-Robots-Tag:noindex
X-PUBLISHED-TTL:PT1H
BEGIN:VTIMEZONE
TZID:Europe/Moscow
BEGIN:STANDARD
TZOFFSETFROM:+0300
TZOFFSETTO:+0300
TZNAME:MSK
DTSTART:20240101T000000
END:STANDARD
END:VTIMEZONE
BEGIN:VEVENT
DTSTART;VALUE=DATE:20250821
DTEND;VALUE=DATE:20250825
DTSTAMP:20260424T052749
CREATED:20250806T090949Z
LAST-MODIFIED:20250806T090949Z
UID:18531-1755734400-1756079999@cathmos.ru
SUMMARY:Юбилейный визит Архиепископа в приходы Непорочного Зачатия Пресвятой Девы Марии в Перми и Марии – Царицы мира в г. Березники Пермского края
DESCRIPTION:
URL:https://cathmos.ru/event/yubilejnyj-vizit-arhiepiskopa-v-prihody-neporochnogo-zachatiya-presvyatoj-devy-marii-v-permi-i-marii-czariczy-mira-v-g-berezniki-permskogo-kraya/
CATEGORIES:Календарь Архиепископа
END:VEVENT
BEGIN:VEVENT
DTSTART;VALUE=DATE:20250822
DTEND;VALUE=DATE:20250823
DTSTAMP:20260424T052749
CREATED:20250806T091027Z
LAST-MODIFIED:20250806T091027Z
UID:18533-1755820800-1755907199@cathmos.ru
SUMMARY:Юбилейный визит Архиепископа в пастырский пункт и празднование 10-летия освящения храма Пресвятой Девы Марии Фатимской в пос. Рябинино Пермского края
DESCRIPTION:
URL:https://cathmos.ru/event/yubilejnyj-vizit-arhiepiskopa-v-pastyrskij-punkt-i-prazdnovanie-10-letiya-osvyashheniya-hrama-presvyatoj-devy-marii-fatimskoj-v-pos-ryabinino-permskogo-kraya/
CATEGORIES:Календарь Архиепископа
END:VEVENT
BEGIN:VEVENT
DTSTART;VALUE=DATE:20250822
DTEND;VALUE=DATE:20250823
DTSTAMP:20260424T052749
CREATED:20250806T092013Z
LAST-MODIFIED:20250806T092013Z
UID:18543-1755820800-1755907199@cathmos.ru
SUMMARY:Пресвятая Дева Мария Царица
DESCRIPTION:
URL:https://cathmos.ru/event/presvyataya-deva-mariya-czaricza/
CATEGORIES:Церковный календарь
END:VEVENT
END:VCALENDAR