BEGIN:VCALENDAR
VERSION:2.0
PRODID:-//Централизованная религиозная организация Римско-католическая Архиепархия Божией Матери в Москве - ECPv6.15.20//NONSGML v1.0//EN
CALSCALE:GREGORIAN
METHOD:PUBLISH
X-WR-CALNAME:Централизованная религиозная организация Римско-католическая Архиепархия Божией Матери в Москве
X-ORIGINAL-URL:https://cathmos.ru
X-WR-CALDESC:Мероприятия для Централизованная религиозная организация Римско-католическая Архиепархия Божией Матери в Москве
REFRESH-INTERVAL;VALUE=DURATION:PT1H
X-Robots-Tag:noindex
X-PUBLISHED-TTL:PT1H
BEGIN:VTIMEZONE
TZID:Europe/Moscow
BEGIN:STANDARD
TZOFFSETFROM:+0300
TZOFFSETTO:+0300
TZNAME:MSK
DTSTART:20230101T000000
END:STANDARD
END:VTIMEZONE
BEGIN:VEVENT
DTSTART;VALUE=DATE:20241114
DTEND;VALUE=DATE:20241115
DTSTAMP:20260426T021507
CREATED:20231106T144807Z
LAST-MODIFIED:20241003T010752Z
UID:13341-1731542400-1731628799@cathmos.ru
SUMMARY:Отец Василий Вайда - день рождения
DESCRIPTION:
URL:https://cathmos.ru/event/dr-o-vasilij-vajda/
CATEGORIES:Дни рождения
END:VEVENT
BEGIN:VEVENT
DTSTART;VALUE=DATE:20241114
DTEND;VALUE=DATE:20241115
DTSTAMP:20260426T021507
CREATED:20241103T010439Z
LAST-MODIFIED:20241103T010439Z
UID:16477-1731542400-1731628799@cathmos.ru
SUMMARY:Архиепископ принимает участие в открытии академического года в Высшей духовной семинарии «Мария – Царица апостолов» в Санкт-Петербурге
DESCRIPTION:
URL:https://cathmos.ru/event/arhiepiskop-prinimaet-uchastie-v-otkrytii-akademicheskogo-goda-v-vysshej-duhovnoj-seminarii-mariya-czaricza-apostolov-v-sankt-peterburge/
CATEGORIES:Календарь Архиепископа
END:VEVENT
BEGIN:VEVENT
DTSTART;TZID=Europe/Moscow:20241114T190000
DTEND;TZID=Europe/Moscow:20241114T203000
DTSTAMP:20260426T021507
CREATED:20241103T010657Z
LAST-MODIFIED:20241103T010657Z
UID:16485-1731610800-1731616200@cathmos.ru
SUMMARY:Святая Месса под предстоятельством Архиепископа Павла Пецци в соборе Успения Пресвятой Девы Марии
DESCRIPTION:
URL:https://cathmos.ru/event/svyataya-messa-pod-predstoyatelstvom-arhiepiskopa-pavla-peczczi-v-sobore-uspeniya-presvyatoj-devy-marii/
CATEGORIES:Календарь вспомогательного епископа
END:VEVENT
END:VCALENDAR