BEGIN:VCALENDAR
VERSION:2.0
PRODID:-//Централизованная религиозная организация Римско-католическая Архиепархия Божией Матери в Москве - ECPv6.15.20//NONSGML v1.0//EN
CALSCALE:GREGORIAN
METHOD:PUBLISH
X-WR-CALNAME:Централизованная религиозная организация Римско-католическая Архиепархия Божией Матери в Москве
X-ORIGINAL-URL:https://cathmos.ru
X-WR-CALDESC:Мероприятия для Централизованная религиозная организация Римско-католическая Архиепархия Божией Матери в Москве
REFRESH-INTERVAL;VALUE=DURATION:PT1H
X-Robots-Tag:noindex
X-PUBLISHED-TTL:PT1H
BEGIN:VTIMEZONE
TZID:Europe/Moscow
BEGIN:STANDARD
TZOFFSETFROM:+0300
TZOFFSETTO:+0300
TZNAME:MSK
DTSTART:20230101T000000
END:STANDARD
END:VTIMEZONE
BEGIN:VEVENT
DTSTART;VALUE=DATE:20241109
DTEND;VALUE=DATE:20241111
DTSTAMP:20260425T170754
CREATED:20241103T010256Z
LAST-MODIFIED:20241103T010256Z
UID:16473-1731110400-1731283199@cathmos.ru
SUMMARY:Архиепископ посещает приход Марии – Царицы мира в Березниках и приход Непорочного Зачатия Пресвятой Девы Марии в Перми
DESCRIPTION:
URL:https://cathmos.ru/event/arhiepiskop-poseshhaet-prihod-marii-czariczy-mira-v-bereznikah-i-prihod-neporochnogo-zachatiya-presvyatoj-devy-marii-v-permi/
CATEGORIES:Календарь Архиепископа
END:VEVENT
END:VCALENDAR