BEGIN:VCALENDAR
VERSION:2.0
PRODID:-//Централизованная религиозная организация Римско-католическая Архиепархия Божией Матери в Москве - ECPv6.15.20//NONSGML v1.0//EN
CALSCALE:GREGORIAN
METHOD:PUBLISH
X-ORIGINAL-URL:https://cathmos.ru
X-WR-CALDESC:Мероприятия для Централизованная религиозная организация Римско-католическая Архиепархия Божией Матери в Москве
REFRESH-INTERVAL;VALUE=DURATION:PT1H
X-Robots-Tag:noindex
X-PUBLISHED-TTL:PT1H
BEGIN:VTIMEZONE
TZID:Europe/Moscow
BEGIN:STANDARD
TZOFFSETFROM:+0300
TZOFFSETTO:+0300
TZNAME:MSK
DTSTART:20230101T000000
END:STANDARD
END:VTIMEZONE
BEGIN:VEVENT
DTSTART;VALUE=DATE:20240929
DTEND;VALUE=DATE:20241028
DTSTAMP:20260424T183248
CREATED:20240901T223734Z
LAST-MODIFIED:20240901T223734Z
UID:15789-1727568000-1730073599@cathmos.ru
SUMMARY:Архиепископ принимает участие в Синоде епископов в Риме
DESCRIPTION:
URL:https://cathmos.ru/event/arhiepiskop-prinimaet-uchastie-v-sinode-episkopov-v-rime/
CATEGORIES:Календарь Архиепископа
END:VEVENT
BEGIN:VEVENT
DTSTART;VALUE=DATE:20241024
DTEND;VALUE=DATE:20241025
DTSTAMP:20260424T183248
CREATED:20201004T191700Z
LAST-MODIFIED:20240930T230608Z
UID:6065-1729728000-1729814399@cathmos.ru
SUMMARY:Св. Антоний Мария Кларет
DESCRIPTION:Проведя жизнь в атмосфере постоянных преследований (только в Испании он пережил более 14 покушений на свою жизнь)\, Кларет умер в изгнании во Франции в 1870 году. Канонизированный 7 мая 1950 года\, св. Антоний Мария Кларет стал единственным\, кто был причислен к лику святых во время I Ватиканского Собора. \nСвятого Антония Марию Кларета не без оснований называют апостолом Павлом XIX века. Низкий ростом\, но великий духом\, он обладал великолепным голосом\, который был крайне необходим в миссионерском служении Словом. Миссионерское призвание к святой евангелизации он считал самым главным. Он провозглашал Слово Божие везде: там\, где это было и не было возможным\, любыми\, уже известными или придуманными им самим способами. Он заботился о бедных\, больных\, преследуемых и одновременно готовил других к выполнению миссии провозглашения Слова. \nБудущий святой родился в Салленте (Каталония) в канун Рождества Христова 1807 года. Сначала учился и работал в ткацкой мастерской\, а затем в 1825-1829 сделал себе блестящую карьеру в текстильной промышленности Барселоны. Но эти успехи не сделали его равнодушным к боли и страданиям людей\, однако только предательство близкого друга\, ослепленного жаждой наживы\, привело к осознанию услышанного некогда слово Христа\, которое в прошлом неоднократно становилось основой обращения великих святых: «Какая польза человеку\, если он приобретет весь мир\, а душе своей повредит? или какой выкуп даст человек за душу свою?» (Мф 16\,26). \nВ процессе поиска и реализации своего призвания у Кларета не было ничего такого\, что бы противоречило традиции Церкви. У него было призвание\, но также колебания\, сомнения и непреодолимые препятствия. Как и каждый из нас\, Кларету не было чуждо ничто человеческое. В его жизни были и разные увлечения\, и время\, когда он был занят собственной карьерой. И в конце концов — горький опыт отступничества\, человеческого несовершенства\, многочисленных кризисов и все же неизменного возвращения. Ничего необычного. Наоборот\, в его жизни мы находим отражение собственных побед и поражений\, а также то\, что переживали все великие святые. \nСв. Антония Марию Кларета называли еще апостолом печатного слова. Он написал более 100 книг и брошюр. А в 1848 году он открыл в Барселоне издательство\, где стали издаваться религиозные книги и журналы. Этот факт не является чем-то необычным. В Мадриде того времени существовало уже около сотни типографий. Новаторство Кларета состоит в евангелизации уже созданных средств массовой информации. \nМногочисленные общества\, созданные Кларетом\, послужили ответом на сложившуюся общественно-религиозную ситуацию в стране и мире. Огромное значение он придавал роли мирянам в Церкви\, призывая их к провозглашению Евангелия и глубокой духовной жизни. В 1847 году он основал первый в истории Церкви светский духовный институт. А в 1849 появился Орден Миссионеров Сыновей Непорочного Сердца Марии. \nПроведя жизнь в атмосфере постоянных преследований (только в Испании он пережил более 14 покушений на свою жизнь)\, Кларет умер в изгнании во Франции в 1870 году. 7 мая 1950 года Антоний Мария Кларет был причислен к лику святых Папой Пием XII. \nИсточник: сайт Общины Кларетинов
URL:https://cathmos.ru/event/sv-antonij-mariya-klaret/
CATEGORIES:Церковный календарь
ATTACH;FMTTYPE=image/jpeg:https://cathmos.ru/wp-content/uploads/2020/10/unnamed-4.jpg
END:VEVENT
BEGIN:VEVENT
DTSTART;TZID=Europe/Moscow:20241024T193000
DTEND;TZID=Europe/Moscow:20241024T200000
DTSTAMP:20260424T183248
CREATED:20241003T001932Z
LAST-MODIFIED:20241003T001932Z
UID:16228-1729798200-1729800000@cathmos.ru
SUMMARY:Святая Месса в честь св. Антония Марии Кларета в Соборе Успения Пресвятой Девы Марии под предстоятельством епископа Николая
DESCRIPTION:
URL:https://cathmos.ru/event/svyataya-messa-v-chest-sv-antoniya-marii-klareta-v-sobore-uspeniya-presvyatoj-devy-marii-pod-predstoyatelstvom-episkopa-nikolaya/
CATEGORIES:Календарь вспомогательного епископа
END:VEVENT
END:VCALENDAR