BEGIN:VCALENDAR
VERSION:2.0
PRODID:-//Централизованная религиозная организация Римско-католическая Архиепархия Божией Матери в Москве - ECPv6.15.20//NONSGML v1.0//EN
CALSCALE:GREGORIAN
METHOD:PUBLISH
X-WR-CALNAME:Централизованная религиозная организация Римско-католическая Архиепархия Божией Матери в Москве
X-ORIGINAL-URL:https://cathmos.ru
X-WR-CALDESC:Мероприятия для Централизованная религиозная организация Римско-католическая Архиепархия Божией Матери в Москве
REFRESH-INTERVAL;VALUE=DURATION:PT1H
X-Robots-Tag:noindex
X-PUBLISHED-TTL:PT1H
BEGIN:VTIMEZONE
TZID:Europe/Moscow
BEGIN:STANDARD
TZOFFSETFROM:+0300
TZOFFSETTO:+0300
TZNAME:MSK
DTSTART:20230101T000000
END:STANDARD
END:VTIMEZONE
BEGIN:VEVENT
DTSTART;VALUE=DATE:20240929
DTEND;VALUE=DATE:20241028
DTSTAMP:20260423T120733
CREATED:20240901T223734Z
LAST-MODIFIED:20240901T223734Z
UID:15789-1727568000-1730073599@cathmos.ru
SUMMARY:Архиепископ принимает участие в Синоде епископов в Риме
DESCRIPTION:
URL:https://cathmos.ru/event/arhiepiskop-prinimaet-uchastie-v-sinode-episkopov-v-rime/
CATEGORIES:Календарь Архиепископа
END:VEVENT
BEGIN:VEVENT
DTSTART;VALUE=DATE:20241006
DTEND;VALUE=DATE:20241007
DTSTAMP:20260423T120733
CREATED:20241003T003350Z
LAST-MODIFIED:20241003T003350Z
UID:16248-1728172800-1728259199@cathmos.ru
SUMMARY:Вера Соррильа Фернандо - годовщина рукоположения
DESCRIPTION:
URL:https://cathmos.ru/event/vera-sorrila-fernando-godovshhina-rukopolozheniya/
CATEGORIES:Рукоположения
END:VEVENT
BEGIN:VEVENT
DTSTART;TZID=Europe/Moscow:20241006T120000
DTEND;TZID=Europe/Moscow:20241006T130000
DTSTAMP:20260423T120733
CREATED:20241003T001508Z
LAST-MODIFIED:20241003T001508Z
UID:16209-1728216000-1728219600@cathmos.ru
SUMMARY:Понтификальная Святая Месса в соборе Успения Пресвятой Девы Марии под предстоятельством епископа Николая – 12:00\, по окончании – встреча с верующими
DESCRIPTION:
URL:https://cathmos.ru/event/pontifikalnaya-svyataya-messa-v-sobore-uspeniya-presvyatoj-devy-marii-pod-predstoyatelstvom-episkopa-nikolaya-1200-po-okonchanii-vstrecha-s-veruyushhimi/
CATEGORIES:Календарь вспомогательного епископа
END:VEVENT
END:VCALENDAR