BEGIN:VCALENDAR
VERSION:2.0
PRODID:-//Централизованная религиозная организация Римско-католическая Архиепархия Божией Матери в Москве - ECPv6.15.20//NONSGML v1.0//EN
CALSCALE:GREGORIAN
METHOD:PUBLISH
X-WR-CALNAME:Централизованная религиозная организация Римско-католическая Архиепархия Божией Матери в Москве
X-ORIGINAL-URL:https://cathmos.ru
X-WR-CALDESC:Мероприятия для Централизованная религиозная организация Римско-католическая Архиепархия Божией Матери в Москве
REFRESH-INTERVAL;VALUE=DURATION:PT1H
X-Robots-Tag:noindex
X-PUBLISHED-TTL:PT1H
BEGIN:VTIMEZONE
TZID:Europe/Moscow
BEGIN:STANDARD
TZOFFSETFROM:+0300
TZOFFSETTO:+0300
TZNAME:MSK
DTSTART:20230101T000000
END:STANDARD
END:VTIMEZONE
BEGIN:VEVENT
DTSTART;VALUE=DATE:20240928
DTEND;VALUE=DATE:20240929
DTSTAMP:20260423T121621
CREATED:20200816T084619Z
LAST-MODIFIED:20240906T131244Z
UID:5532-1727481600-1727567999@cathmos.ru
SUMMARY:Св. Лаврентий Руис и его сподвижники: память
DESCRIPTION:Святой Лаврентий Руис родился около 1600 года в Маниле. Его отец был китайцем\, а мать малайкой\, но оба\, и отец\, и мать были католиками и своих детей воспитывали в духе веры. Образование мальчик получил в доминиканской школе в Бинондо – пригороде Манилы. Ещё в детстве он прислуживал на Мессе. Став взрослым Лаврентий вступил в Третий доминиканский орден\, был ризничим в храме\, который окормлялся отцами-доминиканцами. Благодаря своему происхождению он хорошо знал китайский язык и работал как переписчик. Он был женат\, и у него было трое маленьких детей\, которых он воспитывал также\, как воспитывали его самого – в вере. Положение христиан в Азии и на Дальнем Востоке не было не только безоблачным\, но даже сколько-нибудь стабильным. Можно предположить\, что христианство молодого отца семейства ставило его в какой-то степени вне общества\, делало чужим. Вероятно\, этим и объясняется то\, что в 1636 году его оклеветали\, обвинив в убийстве\, и ему пришлось бежать из Манилы на судне\, на котором отплывали в Японию миссионеры-доминиканцы. Судно следовало на Тайвань с заходом в Японию\, и планировалось\, что миссионеры сойдут на берег в Японии\, а Лаврентий отправится дальше\, на Тайвань\, в Формозу. Но когда корабль прибыл в Окинаву\, он принял решение остаться в Японии. \nВ начале XVII века в Японии была довольно большая христианская община\, но уже в 1614 году начались гонения. Был принят закон\, по которому все\, исповедующие веру в Христа\, объявлялись преступниками и подлежали аресту и\, в случае\, если они отказывались отречься от веры\, казни. С 1617 по 1632 годы только в Нагасаки-Омура были казнены 205 христиан. Очень скоро прибывшие из Манилы миссионеры были схвачены и брошены в тюрьму. Арестованные подверглись жесточайшим пыткам – их заставляли пить огромное количество воды\, а потом тюремщики укладывали доски на лежащих узников и прыгали на них\, чтобы вода вытекала через рот\, нос и уши\, загоняли под ногти бамбуковые иглы. Некоторые из мучеников\, в том числе и Лаврентий\, уже были готовы отречься от Бога\, чувствуя\, что не могут больше выносить пытки\, но мужество остальных\, их молитвы и поддержка укрепляли колеблющихся и давали новые силы. Когда святому Лаврентию в последний раз предложили спасти жизнь\, отрёкшись от Христа\, он сказал: «Я готов отдать жизнь за Него тысячу раз. Никогда я не отрекусь от веры. Если хотите\, можете убить меня. Я хочу умереть ради Бога». Казнь\, которой их подвергли – «ана-цуруши» (виселица и могила) – была направлена на то\, чтобы сделать смерть как можно более медленной и мучительной – осуждённых подвесили вниз головой на деревянных столбах\, помещённых в яму с жидкой грязью\, а к рукам привязали камни – агония мучеников продлилась несколько дней. В конце концов\, палачи\, потеряв терпение\, зарубили мечами тех\, кто ещё был жив. 28 сентября 1637 года тела их сожгли\, а пепел бросили в океан. Вместе со святым Лаврентием\, мирянином-филиппинцем\, мученическую смерть за Христа приняли 15 человек\, девять из которых были японцами\, четверо испанцами\, один французом и один итальянцем. Среди них были монахи\, терциарии и миряне\, доминиканцы и августинианцы\, мужчины и женщины. Они умерли\, потому что были христианами. \nЛоренцо Руис канонизирован 18 октября 1987 года. \nАнна Кудрик
URL:https://cathmos.ru/event/sv-lavrentij-ruis-i-ego-spodvizhniki-pamyat/
CATEGORIES:Церковный календарь
ATTACH;FMTTYPE=image/jpeg:https://cathmos.ru/wp-content/uploads/2020/08/article_sanlorenzo3.jpg
END:VEVENT
BEGIN:VEVENT
DTSTART;VALUE=DATE:20240928
DTEND;VALUE=DATE:20240929
DTSTAMP:20260423T121621
CREATED:20240903T005506Z
LAST-MODIFIED:20240903T005506Z
UID:15810-1727481600-1727567999@cathmos.ru
SUMMARY:Открытие пастырского года в Соборе Успения Пресвятой Девы Марии в Санкт-Петербурге
DESCRIPTION:
URL:https://cathmos.ru/event/otkrytie-pastyrskogo-goda-v-sobore-uspeniya-presvyatoj-devy-marii-v-sankt-peterburge/
CATEGORIES:Календарь вспомогательного епископа
END:VEVENT
END:VCALENDAR