BEGIN:VCALENDAR
VERSION:2.0
PRODID:-//Централизованная религиозная организация Римско-католическая Архиепархия Божией Матери в Москве - ECPv6.15.20//NONSGML v1.0//EN
CALSCALE:GREGORIAN
METHOD:PUBLISH
X-ORIGINAL-URL:https://cathmos.ru
X-WR-CALDESC:Мероприятия для Централизованная религиозная организация Римско-католическая Архиепархия Божией Матери в Москве
REFRESH-INTERVAL;VALUE=DURATION:PT1H
X-Robots-Tag:noindex
X-PUBLISHED-TTL:PT1H
BEGIN:VTIMEZONE
TZID:Europe/Moscow
BEGIN:STANDARD
TZOFFSETFROM:+0300
TZOFFSETTO:+0300
TZNAME:MSK
DTSTART:20230101T000000
END:STANDARD
END:VTIMEZONE
BEGIN:VEVENT
DTSTART;VALUE=DATE:20240923
DTEND;VALUE=DATE:20240924
DTSTAMP:20260423T122124
CREATED:20200906T222440Z
LAST-MODIFIED:20240906T131101Z
UID:5690-1727049600-1727135999@cathmos.ru
SUMMARY:Св. Пий Пьетрельчинский: память
DESCRIPTION:Отец Пио – монах-капуцин\, один из наиболее популярных в народе Божием подвижников XX века\, ревностный пастырь\, наставник и духовник\, которому приписывали дар чудотворения и прозорливости. \nФранческо (таким было его имя\, данное в Крещении) появился на свет в городке Пьетрельчина в провинции Кампания на юго-западе Италии в 1887 г.\, будучи четвертым ребенком в семье\, где было восемь детей. Он родился настолько слабым\, что родители попросили окрестить его через 12 часов после рождения\, не надеясь\, что он выживет. Проблемы со здоровьем постоянно преследовали его и в дальнейшем. Зато с ранних лет Франческо обнаруживал чрезвычайную склонность к духовной жизни: он постоянно был министрантом (алтарником) в своей приходской церкви\, мечтал стать монахом и священником. Достаточно рано его стали посещать и мистические видения: Господа Иисуса\, Его Пречистой Матери\, своего Ангела-Хранителя и некоторых святых. Эти видения имели место и в дальнейшем на протяжении всей его жизни\, так что отец Пио мог беседовать с небожителями лицом к лицу. С другой стороны\, являлись ему и устрашающие видения сатаны и воинства его\, целых полчищ бесов\, с которыми он вступал в прямое сражение\, доставлявшее ему тяжкие раны и страдания. \nВ 1903 г. Франческо стал послушником в Ордене францисканцев-капуцинов\, а в 1907 г. принес свои вечные монашеские обеты\, взяв имя «Пий» в честь небесного покровителя Пьетрельчины\, св. Папы Пия V. В 1910 г. он был рукоположен во священники.\nНо из-за слабого здоровья он не мог исполнять то служение\, которое обычно исполняли его собратья\, священники-капуцины\, и его то и дело отправляли домой\, на лечение. Вплоть до 1916 г. он по большей части проживал в Пьетрельчине\, лишь время от времени возвращаясь в монастырь. В годы Первой мировой войны его несколько раз пытались призвать в армию\, но и оттуда вскоре демобилизовывали по состоянию здоровья.\nОднако в 1916 г. он попал в небольшой монастырь в горной деревушке Сан-Джованни-Ротондо в провинции Апулия на юго-востоке Италии\, и вот в этом монастыре он провел более 50 лет\, вплоть до самой смерти\, находясь в нем практически безвылазно\, кроме кратких отлучек\, вызванных призывом в армию. \nВ пятницу 20 сентября 1918 года\, во время горячей молитвы перед Распятием\, на его руках и боку появились стигматы\, т.е. раны в местах расположения ран распятого Христа\, которые сильно кровоточили и причиняли их носителю тяжелые страдания. Они оставались у отца Пио на протяжении всей его жизни\, и он носил на руках специальные повязки. Раны полностью раскрывались во время служения отцом Пио Мессы\, прежде всего\, в момент пресуществления Святых Даров\, так что каждая отслуженная Месса становилась для него личным восхождением на Голгофу не только в духовном\, но и в физическом смысле. Стигматы отца Пио неоднократно осматривались и исследовались независимыми врачами\, но они так и не смогли прийти ни к какому выводу относительно их происхождения и природы.\nЧто же касается церковного начальства (а ситуация с отцом Пио стала известна даже Святому Престолу)\, то его отношение поначалу характеризовалось крайней осторожностью и даже недоверием. С 1923 по 1933 год падре Пио было запрещено публично служить Мессу и принимать исповедь\, и он был изолирован в собственной монастырской келье. Позже наложивший данный запрет Папа Пий XI прокомментирует это так: «Я не был плохо расположен к падре Пио\, я был плохо проинформирован». \nНо в конце концов запрет был снят\, и в монастырь Сан-Джованни-Ротондо начались массовые паломничества. У верующих не было сомнений в чудотворческом даре отца Пио\, рассказы о котором широко распространились не только в Италии\, но и во многих других странах мира. Очередь на исповедь к отцу Пио составляла несколько дней\, а он проводил в исповедальне до 19-ти часов в сутки. Кроме того\, он заочно общался по переписке со многими людьми\, просившими у него духовного совета. С именем отца Пио связано и несколько громких обращений ко Христу ряда известных в Италии масонов и атеистов. В этих и других случаях обращение\, покаяние\, изменение образа жизни лиц\, имевших общение с падре Пио\, связывалось с присущим ему даром прозорливости\, способностью читать в сердцах людей\, понимать их внутреннее состояние\, знать их потаенные мысли.\nВ 1940 г. отец Пио и несколько его близких сотрудников обнародовали проект открытия в Сан-Джованни-Ротондо больницы для самых бедных и нуждающихся\, финансируемой из средств паломников. Эта больница\, получившая название «Дом облегчения страданий»\, была открыта в 1956 г.\, и именно ее падре Пио считал главным делом своей жизни. \nОтец Пио отошел ко Господу 22 сентября 1968 г.\, причем сразу после смерти стигматы на его теле исчезли\, а само тело не подверглось процессу разложения.\nПапа Павел VI следующим образом подвел итог его жизни: «Смотрите\, какой он был окружен славой! Сколько приверженцев он нашел по всему свету. Почему же? Может\, он был философом или ученным? Вовсе нет. Просто он смиренно служил Мессу и с утра до вечера исповедовал. Как еще можно определить\, кем он был? Господь Иисус отметил его Своими стигматами». \nОтцу Пио\, кроме стигматов\, приписывали следующие сверхъестественные способности:\n— Билокация\, т.е. способность присутствовать в разных местах одновременно и мгновенно перемещаться с одного места на другое.\n— Предсказания будущего.\n— Способность «видеть» всю жизнь исповедующегося человека или человека\, пришедшего к нему на беседу\, мгновенное и безошибочное определение его искренности.\n— Способность дать ощутить свое присутствие с помощью приятного цветочного запаха знакомым людям\, которые могли находиться на расстоянии сотен и даже тысяч километров.\n— Чудесные исцеления. Например\, случай девочки Джеммы ди Джорджи\, которая родилась без зрачков\, но обрела способность видеть после посещения отца Пио. Или случай исцеления от рака в терминальной стадии врача-атеиста Франческо Ричарди\, который в итоге обратился ко Христу.\n— Мистические сражения с сатаной и демонами\, которые падре Пио вел по ночам в своей келье. \nИменно репутация чудотворца\, прочно связанная с именем падре Пио\, способствовала тому\, что процесс его причисления к лику святых шел очень медленно и был сопряжен со многими трудностями. Беатификационный процесс был инициирован в 1982 г.\, но лишь в 1990 г. отец Пио получил титул «слуги Божия»\, хотя обычно такой титул дается кандидату в блаженные сразу. В 1997 г. он получает титул «достопочтенного» и\, наконец\, в 1999 г. Папа Иоанн Павел II провозгласил его блаженным\, а 16 июня 2002 г. причислил его к лику святых.\nВ 2008 г. мощи падре Пио были эксгумированы\, в связи с чем была в очередной раз подтверждена их нетленность. С марта 2013 г. они постоянно находятся в прозрачном саркофаге в часовне монастыря Сан-Джованни-Ротондо\, и множество паломников со всего мира приходит поклониться им. \nИсточник: Сибирская католическая газета
URL:https://cathmos.ru/event/sv-pij-petrelchinskij-pamyat/
CATEGORIES:Церковный календарь
ATTACH;FMTTYPE=image/jpeg:https://cathmos.ru/wp-content/uploads/2020/09/prayer-to-saint-pio-intro.jpg
END:VEVENT
END:VCALENDAR