BEGIN:VCALENDAR
VERSION:2.0
PRODID:-//Централизованная религиозная организация Римско-католическая Архиепархия Божией Матери в Москве - ECPv6.15.20//NONSGML v1.0//EN
CALSCALE:GREGORIAN
METHOD:PUBLISH
X-WR-CALNAME:Централизованная религиозная организация Римско-католическая Архиепархия Божией Матери в Москве
X-ORIGINAL-URL:https://cathmos.ru
X-WR-CALDESC:Мероприятия для Централизованная религиозная организация Римско-католическая Архиепархия Божией Матери в Москве
REFRESH-INTERVAL;VALUE=DURATION:PT1H
X-Robots-Tag:noindex
X-PUBLISHED-TTL:PT1H
BEGIN:VTIMEZONE
TZID:Europe/Moscow
BEGIN:STANDARD
TZOFFSETFROM:+0300
TZOFFSETTO:+0300
TZNAME:MSK
DTSTART:20230101T000000
END:STANDARD
END:VTIMEZONE
BEGIN:VEVENT
DTSTART;VALUE=DATE:20240918
DTEND;VALUE=DATE:20240919
DTSTAMP:20260423T121627
CREATED:20230816T190831Z
LAST-MODIFIED:20240906T130837Z
UID:12546-1726617600-1726703999@cathmos.ru
SUMMARY:Св. Роберт Беллармин: память
DESCRIPTION:
URL:https://cathmos.ru/event/sv-robert-bellarmin-pamyat/
CATEGORIES:Церковный календарь
END:VEVENT
BEGIN:VEVENT
DTSTART;VALUE=DATE:20240918
DTEND;VALUE=DATE:20240919
DTSTAMP:20260423T121627
CREATED:20230816T190905Z
LAST-MODIFIED:20240906T130904Z
UID:12549-1726617600-1726703999@cathmos.ru
SUMMARY:Св. Хильдегарда Бингенская: память
DESCRIPTION:
URL:https://cathmos.ru/event/sv-hildegarda-bingenskaya-pamyat/
CATEGORIES:Церковный календарь
END:VEVENT
BEGIN:VEVENT
DTSTART;VALUE=DATE:20240918
DTEND;VALUE=DATE:20240922
DTSTAMP:20260423T121627
CREATED:20240901T223606Z
LAST-MODIFIED:20240901T223606Z
UID:15785-1726617600-1726963199@cathmos.ru
SUMMARY:Архиепископ участвует во встрече с епископами Центральной Азии в Астане
DESCRIPTION:
URL:https://cathmos.ru/event/arhiepiskop-uchastvuet-vo-vstreche-s-episkopami-czentralnoj-azii-v-astane/
CATEGORIES:Календарь Архиепископа
END:VEVENT
BEGIN:VEVENT
DTSTART;VALUE=DATE:20240918
DTEND;VALUE=DATE:20240922
DTSTAMP:20260423T121627
CREATED:20240903T005448Z
LAST-MODIFIED:20240903T005448Z
UID:15808-1726617600-1726963199@cathmos.ru
SUMMARY:Епископ Николай участвует во стрече с епископами Центральной Азии в Астане
DESCRIPTION:
URL:https://cathmos.ru/event/episkop-nikolaj-uchastvuet-vo-streche-s-episkopami-czentralnoj-azii-v-astane/
CATEGORIES:Календарь вспомогательного епископа
END:VEVENT
END:VCALENDAR