BEGIN:VCALENDAR
VERSION:2.0
PRODID:-//Централизованная религиозная организация Римско-католическая Архиепархия Божией Матери в Москве - ECPv6.15.20//NONSGML v1.0//EN
CALSCALE:GREGORIAN
METHOD:PUBLISH
X-WR-CALNAME:Централизованная религиозная организация Римско-католическая Архиепархия Божией Матери в Москве
X-ORIGINAL-URL:https://cathmos.ru
X-WR-CALDESC:Мероприятия для Централизованная религиозная организация Римско-католическая Архиепархия Божией Матери в Москве
REFRESH-INTERVAL;VALUE=DURATION:PT1H
X-Robots-Tag:noindex
X-PUBLISHED-TTL:PT1H
BEGIN:VTIMEZONE
TZID:Europe/Moscow
BEGIN:STANDARD
TZOFFSETFROM:+0300
TZOFFSETTO:+0300
TZNAME:MSK
DTSTART:20230101T000000
END:STANDARD
END:VTIMEZONE
BEGIN:VEVENT
DTSTART;VALUE=DATE:20240910
DTEND;VALUE=DATE:20240916
DTSTAMP:20260423T102837
CREATED:20240903T005351Z
LAST-MODIFIED:20240903T005351Z
UID:15804-1725926400-1726444799@cathmos.ru
SUMMARY:Епископ Николай принимает участие в паломничестве в Калининградскую область
DESCRIPTION:
URL:https://cathmos.ru/event/episkop-nikolaj-prinimaet-uchastie-v-palomnichestve-v-kaliningradskuyu-oblast/
CATEGORIES:Календарь вспомогательного епископа
END:VEVENT
BEGIN:VEVENT
DTSTART;VALUE=DATE:20240915
DTEND;VALUE=DATE:20240916
DTSTAMP:20260423T102837
CREATED:20240906T132650Z
LAST-MODIFIED:20240906T132650Z
UID:15863-1726358400-1726444799@cathmos.ru
SUMMARY:Отец Райан Майкл Джон\, SM - годовщина рукоположения
DESCRIPTION:
URL:https://cathmos.ru/event/otecz-rajan-majkl-dzhon-sm-godovshhina-rukopolozheniya/
CATEGORIES:Рукоположения
END:VEVENT
BEGIN:VEVENT
DTSTART;VALUE=DATE:20240915
DTEND;VALUE=DATE:20240916
DTSTAMP:20260423T102837
CREATED:20240914T220512Z
LAST-MODIFIED:20240914T220512Z
UID:16047-1726358400-1726444799@cathmos.ru
SUMMARY:Открытие Пастырского Года в Архиепархии и срок возобновления катехизации в приходах
DESCRIPTION:
URL:https://cathmos.ru/event/otkrytie-pastyrskogo-goda-v-arhieparhii-i-srok-vozobnovleniya-katehizaczii-v-prihodah/
CATEGORIES:Церковный календарь
END:VEVENT
BEGIN:VEVENT
DTSTART;TZID=Europe/Moscow:20240915T100000
DTEND;TZID=Europe/Moscow:20240915T110000
DTSTAMP:20260423T102837
CREATED:20240901T223452Z
LAST-MODIFIED:20240901T223452Z
UID:15781-1726394400-1726398000@cathmos.ru
SUMMARY:Начало пастырского года в Архиепархии – Святая Месса в Кафедральном соборе
DESCRIPTION:
URL:https://cathmos.ru/event/nachalo-pastyrskogo-goda-v-arhieparhii-svyataya-messa-v-kafedralnom-sobore/
CATEGORIES:Календарь Архиепископа
END:VEVENT
END:VCALENDAR