BEGIN:VCALENDAR
VERSION:2.0
PRODID:-//Централизованная религиозная организация Римско-католическая Архиепархия Божией Матери в Москве - ECPv6.15.20//NONSGML v1.0//EN
CALSCALE:GREGORIAN
METHOD:PUBLISH
X-ORIGINAL-URL:https://cathmos.ru
X-WR-CALDESC:Мероприятия для Централизованная религиозная организация Римско-католическая Архиепархия Божией Матери в Москве
REFRESH-INTERVAL;VALUE=DURATION:PT1H
X-Robots-Tag:noindex
X-PUBLISHED-TTL:PT1H
BEGIN:VTIMEZONE
TZID:Europe/Moscow
BEGIN:STANDARD
TZOFFSETFROM:+0300
TZOFFSETTO:+0300
TZNAME:MSK
DTSTART:20230101T000000
END:STANDARD
END:VTIMEZONE
BEGIN:VEVENT
DTSTART;VALUE=DATE:20240905
DTEND;VALUE=DATE:20240913
DTSTAMP:20260423T023903
CREATED:20240901T223416Z
LAST-MODIFIED:20240901T223416Z
UID:15779-1725494400-1726185599@cathmos.ru
SUMMARY:Архиепископ принимает участие в епархиальном паломничестве в Беларусь
DESCRIPTION:
URL:https://cathmos.ru/event/arhiepiskop-prinimaet-uchastie-v-eparhialnom-palomnichestve-v-belarus/
CATEGORIES:Календарь Архиепископа
END:VEVENT
BEGIN:VEVENT
DTSTART;VALUE=DATE:20240910
DTEND;VALUE=DATE:20240916
DTSTAMP:20260423T023903
CREATED:20240903T005351Z
LAST-MODIFIED:20240903T005351Z
UID:15804-1725926400-1726444799@cathmos.ru
SUMMARY:Епископ Николай принимает участие в паломничестве в Калининградскую область
DESCRIPTION:
URL:https://cathmos.ru/event/episkop-nikolaj-prinimaet-uchastie-v-palomnichestve-v-kaliningradskuyu-oblast/
CATEGORIES:Календарь вспомогательного епископа
END:VEVENT
END:VCALENDAR