BEGIN:VCALENDAR
VERSION:2.0
PRODID:-//Централизованная религиозная организация Римско-католическая Архиепархия Божией Матери в Москве - ECPv6.15.20//NONSGML v1.0//EN
CALSCALE:GREGORIAN
METHOD:PUBLISH
X-ORIGINAL-URL:https://cathmos.ru
X-WR-CALDESC:Мероприятия для Централизованная религиозная организация Римско-католическая Архиепархия Божией Матери в Москве
REFRESH-INTERVAL;VALUE=DURATION:PT1H
X-Robots-Tag:noindex
X-PUBLISHED-TTL:PT1H
BEGIN:VTIMEZONE
TZID:Europe/Moscow
BEGIN:STANDARD
TZOFFSETFROM:+0300
TZOFFSETTO:+0300
TZNAME:MSK
DTSTART:20230101T000000
END:STANDARD
END:VTIMEZONE
BEGIN:VEVENT
DTSTART;TZID=Europe/Moscow:20240818T100000
DTEND;TZID=Europe/Moscow:20240818T113000
DTSTAMP:20260419T163924
CREATED:20240801T134757Z
LAST-MODIFIED:20240801T134757Z
UID:15631-1723975200-1723980600@cathmos.ru
SUMMARY:Святая Месса в Кафедральном соборе под предстоятельством Архиепископа
DESCRIPTION:
URL:https://cathmos.ru/event/svyataya-messa-v-kafedralnom-sobore-pod-predstoyatelstvom-arhiepiskopa-35/
CATEGORIES:Календарь Архиепископа
END:VEVENT
BEGIN:VEVENT
DTSTART;TZID=Europe/Moscow:20240818T120000
DTEND;TZID=Europe/Moscow:20240818T133000
DTSTAMP:20260419T163924
CREATED:20240801T134355Z
LAST-MODIFIED:20240801T134355Z
UID:15618-1723982400-1723987800@cathmos.ru
SUMMARY:Торжественная Святая Месса в соборе Успения Пресвятой Девы Марии под предстоятельством вспомогательного епископа
DESCRIPTION:
URL:https://cathmos.ru/event/torzhestvennaya-svyataya-messa-v-sobore-uspeniya-presvyatoj-devy-marii-pod-predstoyatelstvom-vspomogatelnogo-episkopa-2/
CATEGORIES:Календарь вспомогательного епископа
END:VEVENT
END:VCALENDAR