BEGIN:VCALENDAR
VERSION:2.0
PRODID:-//Централизованная религиозная организация Римско-католическая Архиепархия Божией Матери в Москве - ECPv6.15.20//NONSGML v1.0//EN
CALSCALE:GREGORIAN
METHOD:PUBLISH
X-ORIGINAL-URL:https://cathmos.ru
X-WR-CALDESC:Мероприятия для Централизованная религиозная организация Римско-католическая Архиепархия Божией Матери в Москве
REFRESH-INTERVAL;VALUE=DURATION:PT1H
X-Robots-Tag:noindex
X-PUBLISHED-TTL:PT1H
BEGIN:VTIMEZONE
TZID:Europe/Moscow
BEGIN:STANDARD
TZOFFSETFROM:+0300
TZOFFSETTO:+0300
TZNAME:MSK
DTSTART:20230101T000000
END:STANDARD
END:VTIMEZONE
BEGIN:VEVENT
DTSTART;VALUE=DATE:20240708
DTEND;VALUE=DATE:20240715
DTSTAMP:20260419T193643
CREATED:20240702T103311Z
LAST-MODIFIED:20240702T103311Z
UID:15381-1720396800-1721001599@cathmos.ru
SUMMARY:Участие епископа Николая в паломничестве в Беларусь
DESCRIPTION:
URL:https://cathmos.ru/event/uchastie-episkopa-nikolaya-v-palomnichestve-v-belarus/
CATEGORIES:Календарь вспомогательного епископа
END:VEVENT
BEGIN:VEVENT
DTSTART;VALUE=DATE:20240714
DTEND;VALUE=DATE:20240715
DTSTAMP:20260419T193644
CREATED:20240702T115001Z
LAST-MODIFIED:20241003T005134Z
UID:15502-1720915200-1721001599@cathmos.ru
SUMMARY:Отец Серан Камилус\, SVD - день рождения
DESCRIPTION:
URL:https://cathmos.ru/event/dr-seran-kamilus-svd/
CATEGORIES:Дни рождения
END:VEVENT
BEGIN:VEVENT
DTSTART;TZID=Europe/Moscow:20240714T100000
DTEND;TZID=Europe/Moscow:20240714T120000
DTSTAMP:20260419T193644
CREATED:20240704T111455Z
LAST-MODIFIED:20240704T111455Z
UID:15515-1720951200-1720958400@cathmos.ru
SUMMARY:Святая Месса в Кафедральном соборе под предстоятельством Архиепископа
DESCRIPTION:
URL:https://cathmos.ru/event/svyataya-messa-v-kafedralnom-sobore-pod-predstoyatelstvom-arhiepiskopa-30/
CATEGORIES:Календарь Архиепископа
END:VEVENT
END:VCALENDAR