BEGIN:VCALENDAR
VERSION:2.0
PRODID:-//Централизованная религиозная организация Римско-католическая Архиепархия Божией Матери в Москве - ECPv6.15.20//NONSGML v1.0//EN
CALSCALE:GREGORIAN
METHOD:PUBLISH
X-WR-CALNAME:Централизованная религиозная организация Римско-католическая Архиепархия Божией Матери в Москве
X-ORIGINAL-URL:https://cathmos.ru
X-WR-CALDESC:Мероприятия для Централизованная религиозная организация Римско-католическая Архиепархия Божией Матери в Москве
REFRESH-INTERVAL;VALUE=DURATION:PT1H
X-Robots-Tag:noindex
X-PUBLISHED-TTL:PT1H
BEGIN:VTIMEZONE
TZID:Europe/Moscow
BEGIN:STANDARD
TZOFFSETFROM:+0300
TZOFFSETTO:+0300
TZNAME:MSK
DTSTART:20230101T000000
END:STANDARD
END:VTIMEZONE
BEGIN:VEVENT
DTSTART;VALUE=DATE:20240626
DTEND;VALUE=DATE:20240627
DTSTAMP:20260421T012936
CREATED:20240702T111854Z
LAST-MODIFIED:20240702T111854Z
UID:15437-1719360000-1719446399@cathmos.ru
SUMMARY:Отец Джампьеро Карузо\, FSCB - годовщина рукоположения
DESCRIPTION:
URL:https://cathmos.ru/event/otecz-dzhampero-karuzo-fscb-godovshhina-rukopolozheniya/
CATEGORIES:Рукоположения
END:VEVENT
BEGIN:VEVENT
DTSTART;VALUE=DATE:20240626
DTEND;VALUE=DATE:20240627
DTSTAMP:20260421T012936
CREATED:20240702T112621Z
LAST-MODIFIED:20240702T112621Z
UID:15449-1719360000-1719446399@cathmos.ru
SUMMARY:Отец Михаил Нуцковский\, SDB - годовщина рукоположения
DESCRIPTION:
URL:https://cathmos.ru/event/otecz-mihail-nuczkovskij-sdb-godovshhina-rukopolozheniya/
CATEGORIES:Рукоположения
END:VEVENT
BEGIN:VEVENT
DTSTART;VALUE=DATE:20240626
DTEND;VALUE=DATE:20240627
DTSTAMP:20260421T012936
CREATED:20240702T112947Z
LAST-MODIFIED:20240702T112947Z
UID:15457-1719360000-1719446399@cathmos.ru
SUMMARY:Отец Йозеф Роман\, SVD - годовщина рукоположения
DESCRIPTION:
URL:https://cathmos.ru/event/otecz-jozef-roman-svd-godovshhina-rukopolozheniya/
CATEGORIES:Рукоположения
END:VEVENT
BEGIN:VEVENT
DTSTART;VALUE=DATE:20240626
DTEND;VALUE=DATE:20240627
DTSTAMP:20260421T012937
CREATED:20240702T113136Z
LAST-MODIFIED:20240702T113139Z
UID:15459-1719360000-1719446399@cathmos.ru
SUMMARY:Отец Седано Сиерра Мариано Хосе\, CMF - годовщина рукоположения
DESCRIPTION:
URL:https://cathmos.ru/event/otecz-sedano-sierra-mariano-hose-cmf-godovshhina-rukopolozheniya/
CATEGORIES:Рукоположения
END:VEVENT
END:VCALENDAR