BEGIN:VCALENDAR
VERSION:2.0
PRODID:-//Централизованная религиозная организация Римско-католическая Архиепархия Божией Матери в Москве - ECPv6.15.20//NONSGML v1.0//EN
CALSCALE:GREGORIAN
METHOD:PUBLISH
X-WR-CALNAME:Централизованная религиозная организация Римско-католическая Архиепархия Божией Матери в Москве
X-ORIGINAL-URL:https://cathmos.ru
X-WR-CALDESC:Мероприятия для Централизованная религиозная организация Римско-католическая Архиепархия Божией Матери в Москве
REFRESH-INTERVAL;VALUE=DURATION:PT1H
X-Robots-Tag:noindex
X-PUBLISHED-TTL:PT1H
BEGIN:VTIMEZONE
TZID:Europe/Moscow
BEGIN:STANDARD
TZOFFSETFROM:+0300
TZOFFSETTO:+0300
TZNAME:MSK
DTSTART:20230101T000000
END:STANDARD
END:VTIMEZONE
BEGIN:VEVENT
DTSTART;VALUE=DATE:20240625
DTEND;VALUE=DATE:20240626
DTSTAMP:20260421T031517
CREATED:20240702T105803Z
LAST-MODIFIED:20240906T134018Z
UID:15424-1719273600-1719359999@cathmos.ru
SUMMARY:Отец Дорогин Юрий (Иакинф)\, OP — день рождения
DESCRIPTION:
URL:https://cathmos.ru/event/dr-otecz-dorogin-yurij-iakinf-op/
CATEGORIES:Дни рождения
END:VEVENT
END:VCALENDAR