BEGIN:VCALENDAR
VERSION:2.0
PRODID:-//Централизованная религиозная организация Римско-католическая Архиепархия Божией Матери в Москве - ECPv6.15.20//NONSGML v1.0//EN
CALSCALE:GREGORIAN
METHOD:PUBLISH
X-ORIGINAL-URL:https://cathmos.ru
X-WR-CALDESC:Мероприятия для Централизованная религиозная организация Римско-католическая Архиепархия Божией Матери в Москве
REFRESH-INTERVAL;VALUE=DURATION:PT1H
X-Robots-Tag:noindex
X-PUBLISHED-TTL:PT1H
BEGIN:VTIMEZONE
TZID:Europe/Moscow
BEGIN:STANDARD
TZOFFSETFROM:+0300
TZOFFSETTO:+0300
TZNAME:MSK
DTSTART:20230101T000000
END:STANDARD
END:VTIMEZONE
BEGIN:VEVENT
DTSTART;VALUE=DATE:20240621
DTEND;VALUE=DATE:20240622
DTSTAMP:20260421T100130
CREATED:20240327T072547Z
LAST-MODIFIED:20240327T072547Z
UID:14659-1718928000-1719014399@cathmos.ru
SUMMARY:Отец Иван Колесников - годовщина рукоположения
DESCRIPTION:
URL:https://cathmos.ru/event/otecz-ivan-kolesnikov-godovshhina-rukopolozheniya/
CATEGORIES:Рукоположения
END:VEVENT
BEGIN:VEVENT
DTSTART;VALUE=DATE:20240621
DTEND;VALUE=DATE:20240622
DTSTAMP:20260421T100130
CREATED:20240624T134218Z
LAST-MODIFIED:20240624T134218Z
UID:15260-1718928000-1719014399@cathmos.ru
SUMMARY:Отец Константин Степанов — годовщина рукоположения
DESCRIPTION:
URL:https://cathmos.ru/event/otecz-konstantin-stepanov-godovshhina-rukopolozheniya/
CATEGORIES:Рукоположения
END:VEVENT
BEGIN:VEVENT
DTSTART;VALUE=DATE:20240621
DTEND;VALUE=DATE:20240622
DTSTAMP:20260421T100130
CREATED:20240702T105639Z
LAST-MODIFIED:20240702T105639Z
UID:15420-1718928000-1719014399@cathmos.ru
SUMMARY:Отец Вуйтович Станислав\, OFMConv. - годовщина рукоположения
DESCRIPTION:
URL:https://cathmos.ru/event/otecz-vujtovich-stanislav-ofmconv-godovshhina-rukopolozheniya/
CATEGORIES:Рукоположения
END:VEVENT
END:VCALENDAR