BEGIN:VCALENDAR
VERSION:2.0
PRODID:-//Централизованная религиозная организация Римско-католическая Архиепархия Божией Матери в Москве - ECPv6.15.20//NONSGML v1.0//EN
CALSCALE:GREGORIAN
METHOD:PUBLISH
X-ORIGINAL-URL:https://cathmos.ru
X-WR-CALDESC:Мероприятия для Централизованная религиозная организация Римско-католическая Архиепархия Божией Матери в Москве
REFRESH-INTERVAL;VALUE=DURATION:PT1H
X-Robots-Tag:noindex
X-PUBLISHED-TTL:PT1H
BEGIN:VTIMEZONE
TZID:Europe/Moscow
BEGIN:STANDARD
TZOFFSETFROM:+0300
TZOFFSETTO:+0300
TZNAME:MSK
DTSTART:20230101T000000
END:STANDARD
END:VTIMEZONE
BEGIN:VEVENT
DTSTART;VALUE=DATE:20240613
DTEND;VALUE=DATE:20240614
DTSTAMP:20260421T231454
CREATED:20240702T113217Z
LAST-MODIFIED:20241003T005240Z
UID:15461-1718236800-1718323199@cathmos.ru
SUMMARY:Отец Серрано Готарредона Антонио - день рождения
DESCRIPTION:
URL:https://cathmos.ru/event/otecz-serrano-gotarredona-antonio-godovshhina-rukopolozheniya-2/
CATEGORIES:Дни рождения
END:VEVENT
BEGIN:VEVENT
DTSTART;TZID=Europe/Moscow:20240613T190000
DTEND;TZID=Europe/Moscow:20240613T203000
DTSTAMP:20260421T231454
CREATED:20240603T114411Z
LAST-MODIFIED:20240603T114411Z
UID:15158-1718305200-1718310600@cathmos.ru
SUMMARY:Торжественная Святая Месса в престольный праздник монастыря св. Антония Чудотворца в Петербурге под предстоятельством епископа Николая
DESCRIPTION:
URL:https://cathmos.ru/event/torzhestvennaya-svyataya-messa-v-prestolnyj-prazdnik-monastyrya-sv-antoniya-chudotvorcza-v-peterburge-pod-predstoyatelstvom-episkopa-nikolaya/
CATEGORIES:Календарь вспомогательного епископа
END:VEVENT
END:VCALENDAR