BEGIN:VCALENDAR
VERSION:2.0
PRODID:-//Централизованная религиозная организация Римско-католическая Архиепархия Божией Матери в Москве - ECPv6.15.20//NONSGML v1.0//EN
CALSCALE:GREGORIAN
METHOD:PUBLISH
X-WR-CALNAME:Централизованная религиозная организация Римско-католическая Архиепархия Божией Матери в Москве
X-ORIGINAL-URL:https://cathmos.ru
X-WR-CALDESC:Мероприятия для Централизованная религиозная организация Римско-католическая Архиепархия Божией Матери в Москве
REFRESH-INTERVAL;VALUE=DURATION:PT1H
X-Robots-Tag:noindex
X-PUBLISHED-TTL:PT1H
BEGIN:VTIMEZONE
TZID:Europe/Moscow
BEGIN:STANDARD
TZOFFSETFROM:+0300
TZOFFSETTO:+0300
TZNAME:MSK
DTSTART:20230101T000000
END:STANDARD
END:VTIMEZONE
BEGIN:VEVENT
DTSTART;VALUE=DATE:20240604
DTEND;VALUE=DATE:20240613
DTSTAMP:20260422T071021
CREATED:20240603T114333Z
LAST-MODIFIED:20240603T114333Z
UID:15156-1717459200-1718236799@cathmos.ru
SUMMARY:Епископ Николай проводит в реколлекции для монахинь в Беларуси
DESCRIPTION:
URL:https://cathmos.ru/event/episkop-nikolaj-provodit-v-rekollekczii-dlya-monahin-v-belarusi/
CATEGORIES:Календарь вспомогательного епископа
END:VEVENT
BEGIN:VEVENT
DTSTART;VALUE=DATE:20240608
DTEND;VALUE=DATE:20240609
DTSTAMP:20260422T071021
CREATED:20240702T112253Z
LAST-MODIFIED:20240906T133935Z
UID:15445-1717804800-1717891199@cathmos.ru
SUMMARY:Отец Денис Марчишин — день рождения
DESCRIPTION:
URL:https://cathmos.ru/event/dr-otecz-denis-marchishin/
CATEGORIES:Дни рождения
END:VEVENT
BEGIN:VEVENT
DTSTART;VALUE=DATE:20240608
DTEND;VALUE=DATE:20240609
DTSTAMP:20260422T071021
CREATED:20240702T112755Z
LAST-MODIFIED:20240702T112755Z
UID:15453-1717804800-1717891199@cathmos.ru
SUMMARY:Отец Андрей Порубчин\, SDB - годовщина рукоположения
DESCRIPTION:
URL:https://cathmos.ru/event/otecz-andrej-porubchin-sdb-godovshhina-rukopolozheniya/
CATEGORIES:Рукоположения
END:VEVENT
BEGIN:VEVENT
DTSTART;VALUE=DATE:20240608
DTEND;VALUE=DATE:20240609
DTSTAMP:20260422T071021
CREATED:20241003T010216Z
LAST-MODIFIED:20241003T010216Z
UID:16341-1717804800-1717891199@cathmos.ru
SUMMARY:Отец Даниил Радько - день рождения
DESCRIPTION:
URL:https://cathmos.ru/event/otecz-daniil-radko-den-rozhdeniya/
CATEGORIES:Дни рождения
END:VEVENT
END:VCALENDAR