BEGIN:VCALENDAR
VERSION:2.0
PRODID:-//Централизованная религиозная организация Римско-католическая Архиепархия Божией Матери в Москве - ECPv6.15.20//NONSGML v1.0//EN
CALSCALE:GREGORIAN
METHOD:PUBLISH
X-ORIGINAL-URL:https://cathmos.ru
X-WR-CALDESC:Мероприятия для Централизованная религиозная организация Римско-католическая Архиепархия Божией Матери в Москве
REFRESH-INTERVAL;VALUE=DURATION:PT1H
X-Robots-Tag:noindex
X-PUBLISHED-TTL:PT1H
BEGIN:VTIMEZONE
TZID:Europe/Moscow
BEGIN:STANDARD
TZOFFSETFROM:+0300
TZOFFSETTO:+0300
TZNAME:MSK
DTSTART:20230101T000000
END:STANDARD
END:VTIMEZONE
BEGIN:VEVENT
DTSTART;VALUE=DATE:20240603
DTEND;VALUE=DATE:20240604
DTSTAMP:20260422T154059
CREATED:20240327T072238Z
LAST-MODIFIED:20240906T134224Z
UID:14653-1717372800-1717459199@cathmos.ru
SUMMARY:Отец Кирилл Горбунов — день рождения
DESCRIPTION:
URL:https://cathmos.ru/event/dr-o-kirill-gorbunov/
CATEGORIES:Дни рождения
END:VEVENT
BEGIN:VEVENT
DTSTART;VALUE=DATE:20240603
DTEND;VALUE=DATE:20240604
DTSTAMP:20260422T154059
CREATED:20240327T073254Z
LAST-MODIFIED:20240906T134154Z
UID:14674-1717372800-1717459199@cathmos.ru
SUMMARY:Отец Владимир Кабак\, SDB — день рождения
DESCRIPTION:
URL:https://cathmos.ru/event/dr-o-vladimir-kabak-sdb/
CATEGORIES:Дни рождения
END:VEVENT
BEGIN:VEVENT
DTSTART;VALUE=DATE:20240603
DTEND;VALUE=DATE:20240604
DTSTAMP:20260422T154059
CREATED:20240702T111342Z
LAST-MODIFIED:20240702T111342Z
UID:15430-1717372800-1717459199@cathmos.ru
SUMMARY:Отец Владислав Зомбковски\, ОР - годовщина рукоположения
DESCRIPTION:
URL:https://cathmos.ru/event/otecz-vladislav-zombkovski-or-godovshhina-rukopolozheniya/
CATEGORIES:Рукоположения
END:VEVENT
END:VCALENDAR