BEGIN:VCALENDAR
VERSION:2.0
PRODID:-//Централизованная религиозная организация Римско-католическая Архиепархия Божией Матери в Москве - ECPv6.15.20//NONSGML v1.0//EN
CALSCALE:GREGORIAN
METHOD:PUBLISH
X-WR-CALNAME:Централизованная религиозная организация Римско-католическая Архиепархия Божией Матери в Москве
X-ORIGINAL-URL:https://cathmos.ru
X-WR-CALDESC:Мероприятия для Централизованная религиозная организация Римско-католическая Архиепархия Божией Матери в Москве
REFRESH-INTERVAL;VALUE=DURATION:PT1H
X-Robots-Tag:noindex
X-PUBLISHED-TTL:PT1H
BEGIN:VTIMEZONE
TZID:Europe/Moscow
BEGIN:STANDARD
TZOFFSETFROM:+0300
TZOFFSETTO:+0300
TZNAME:MSK
DTSTART:20230101T000000
END:STANDARD
END:VTIMEZONE
BEGIN:VEVENT
DTSTART;VALUE=DATE:20240531
DTEND;VALUE=DATE:20240602
DTSTAMP:20260422T203640
CREATED:20240503T095537Z
LAST-MODIFIED:20240503T095537Z
UID:15003-1717113600-1717286399@cathmos.ru
SUMMARY:Вспомогательный епископ пастырский визит в Западный деканат
DESCRIPTION:
URL:https://cathmos.ru/event/vspomogatelnyj-episkop-pastyrskij-vizit-v-zapadnyj-dekanat/
CATEGORIES:Календарь вспомогательного епископа
END:VEVENT
BEGIN:VEVENT
DTSTART;TZID=Europe/Moscow:20240531T200000
DTEND;TZID=Europe/Moscow:20240531T210000
DTSTAMP:20260422T203640
CREATED:20240503T094859Z
LAST-MODIFIED:20240503T094859Z
UID:14993-1717185600-1717189200@cathmos.ru
SUMMARY:Встреча с участниками Семинара приходских СМИ
DESCRIPTION:
URL:https://cathmos.ru/event/vstrecha-s-uchastnikami-seminara-prihodskih-smi/
CATEGORIES:Календарь Архиепископа
END:VEVENT
END:VCALENDAR