BEGIN:VCALENDAR
VERSION:2.0
PRODID:-//Централизованная религиозная организация Римско-католическая Архиепархия Божией Матери в Москве - ECPv6.15.20//NONSGML v1.0//EN
CALSCALE:GREGORIAN
METHOD:PUBLISH
X-WR-CALNAME:Централизованная религиозная организация Римско-католическая Архиепархия Божией Матери в Москве
X-ORIGINAL-URL:https://cathmos.ru
X-WR-CALDESC:Мероприятия для Централизованная религиозная организация Римско-католическая Архиепархия Божией Матери в Москве
REFRESH-INTERVAL;VALUE=DURATION:PT1H
X-Robots-Tag:noindex
X-PUBLISHED-TTL:PT1H
BEGIN:VTIMEZONE
TZID:Europe/Moscow
BEGIN:STANDARD
TZOFFSETFROM:+0300
TZOFFSETTO:+0300
TZNAME:MSK
DTSTART:20230101T000000
END:STANDARD
END:VTIMEZONE
BEGIN:VEVENT
DTSTART;TZID=Europe/Moscow:20240509T180000
DTEND;TZID=Europe/Moscow:20240509T200000
DTSTAMP:20260423T131103
CREATED:20240503T094503Z
LAST-MODIFIED:20240503T094503Z
UID:14977-1715277600-1715284800@cathmos.ru
SUMMARY:Возможность исповеди у Архиепископа – 18:00; Святая Месса в Кафедральном соборе – 19:00
DESCRIPTION:
URL:https://cathmos.ru/event/vozmozhnost-ispovedi-u-arhiepiskopa-1800-svyataya-messa-v-kafedralnom-sobore-1900-29/
CATEGORIES:Календарь Архиепископа
END:VEVENT
BEGIN:VEVENT
DTSTART;TZID=Europe/Moscow:20240509T190000
DTEND;TZID=Europe/Moscow:20240509T200000
DTSTAMP:20260423T131103
CREATED:20240503T095202Z
LAST-MODIFIED:20240503T095202Z
UID:14997-1715281200-1715284800@cathmos.ru
SUMMARY:Святая Месса торжества Вознесения Господня в соборе Успения Пресвятой Девы Марии под предстоятельством вспомогательного епископа
DESCRIPTION:
URL:https://cathmos.ru/event/svyataya-messa-torzhestva-vozneseniya-gospodnya-v-sobore-uspeniya-presvyatoj-devy-marii-pod-predstoyatelstvom-vspomogatelnogo-episkopa/
CATEGORIES:Календарь вспомогательного епископа
END:VEVENT
END:VCALENDAR