BEGIN:VCALENDAR
VERSION:2.0
PRODID:-//Централизованная религиозная организация Римско-католическая Архиепархия Божией Матери в Москве - ECPv6.15.20//NONSGML v1.0//EN
CALSCALE:GREGORIAN
METHOD:PUBLISH
X-ORIGINAL-URL:https://cathmos.ru
X-WR-CALDESC:Мероприятия для Централизованная религиозная организация Римско-католическая Архиепархия Божией Матери в Москве
REFRESH-INTERVAL;VALUE=DURATION:PT1H
X-Robots-Tag:noindex
X-PUBLISHED-TTL:PT1H
BEGIN:VTIMEZONE
TZID:Europe/Moscow
BEGIN:STANDARD
TZOFFSETFROM:+0300
TZOFFSETTO:+0300
TZNAME:MSK
DTSTART:20230101T000000
END:STANDARD
END:VTIMEZONE
BEGIN:VEVENT
DTSTART;TZID=Europe/Moscow:20240505T100000
DTEND;TZID=Europe/Moscow:20240505T130000
DTSTAMP:20260423T144450
CREATED:20240503T094312Z
LAST-MODIFIED:20240503T094312Z
UID:14973-1714903200-1714914000@cathmos.ru
SUMMARY:Святая Месса в Кафедральном соборе – 10:00; после окончания Святой Мессы – встреча «Школы христианства» по тексту Апостольского обращения Папы Франциска «Evangelii gaudium» («Радость Евангелия»)
DESCRIPTION:
URL:https://cathmos.ru/event/svyataya-messa-v-kafedralnom-sobore-1000-posle-okonchaniya-svyatoj-messy-vstrecha-shkoly-hristianstva-po-tekstu-apostolskogo-obrashheniya-papy-francziska-evange-2/
CATEGORIES:Календарь Архиепископа
END:VEVENT
BEGIN:VEVENT
DTSTART;TZID=Europe/Moscow:20240505T120000
DTEND;TZID=Europe/Moscow:20240505T133000
DTSTAMP:20260423T144450
CREATED:20240503T095127Z
LAST-MODIFIED:20240503T095127Z
UID:14995-1714910400-1714915800@cathmos.ru
SUMMARY:Понтификальная Святая Месса в соборе Успения Пресвятой Девы Марии под предстоятельством вспомогательного епископа
DESCRIPTION:
URL:https://cathmos.ru/event/pontifikalnaya-svyataya-messa-v-sobore-uspeniya-presvyatoj-devy-marii-pod-predstoyatelstvom-vspomogatelnogo-episkopa/
CATEGORIES:Календарь вспомогательного епископа
END:VEVENT
END:VCALENDAR