BEGIN:VCALENDAR
VERSION:2.0
PRODID:-//Централизованная религиозная организация Римско-католическая Архиепархия Божией Матери в Москве - ECPv6.15.20//NONSGML v1.0//EN
CALSCALE:GREGORIAN
METHOD:PUBLISH
X-ORIGINAL-URL:https://cathmos.ru
X-WR-CALDESC:Мероприятия для Централизованная религиозная организация Римско-католическая Архиепархия Божией Матери в Москве
REFRESH-INTERVAL;VALUE=DURATION:PT1H
X-Robots-Tag:noindex
X-PUBLISHED-TTL:PT1H
BEGIN:VTIMEZONE
TZID:Europe/Moscow
BEGIN:STANDARD
TZOFFSETFROM:+0300
TZOFFSETTO:+0300
TZNAME:MSK
DTSTART:20230101T000000
END:STANDARD
END:VTIMEZONE
BEGIN:VEVENT
DTSTART;VALUE=DATE:20240425
DTEND;VALUE=DATE:20240426
DTSTAMP:20260423T194035
CREATED:20200418T011852Z
LAST-MODIFIED:20240326T072742Z
UID:4560-1714003200-1714089599@cathmos.ru
SUMMARY:Св. Марк Евангелист: Праздник
DESCRIPTION:
URL:https://cathmos.ru/event/sv-mark-evangelist-prazdnik/
CATEGORIES:Церковный календарь
ATTACH;FMTTYPE=image/jpeg:https://cathmos.ru/wp-content/uploads/2020/04/tzanes_emmanuel_-_st_mark_the_evangelist_-_google_art_project.jpg
END:VEVENT
BEGIN:VEVENT
DTSTART;VALUE=DATE:20240425
DTEND;VALUE=DATE:20240502
DTSTAMP:20260423T194035
CREATED:20240408T124121Z
LAST-MODIFIED:20240408T124121Z
UID:14814-1714003200-1714607999@cathmos.ru
SUMMARY:Епархиальное паломничество в Сирию
DESCRIPTION:
URL:https://cathmos.ru/event/eparhialnoe-palomnichestvo-v-siriyu/
CATEGORIES:Календарь Архиепископа
END:VEVENT
END:VCALENDAR