BEGIN:VCALENDAR
VERSION:2.0
PRODID:-//Централизованная религиозная организация Римско-католическая Архиепархия Божией Матери в Москве - ECPv6.15.20//NONSGML v1.0//EN
CALSCALE:GREGORIAN
METHOD:PUBLISH
X-WR-CALNAME:Централизованная религиозная организация Римско-католическая Архиепархия Божией Матери в Москве
X-ORIGINAL-URL:https://cathmos.ru
X-WR-CALDESC:Мероприятия для Централизованная религиозная организация Римско-католическая Архиепархия Божией Матери в Москве
REFRESH-INTERVAL;VALUE=DURATION:PT1H
X-Robots-Tag:noindex
X-PUBLISHED-TTL:PT1H
BEGIN:VTIMEZONE
TZID:Europe/Moscow
BEGIN:STANDARD
TZOFFSETFROM:+0300
TZOFFSETTO:+0300
TZNAME:MSK
DTSTART:20230101T000000
END:STANDARD
END:VTIMEZONE
BEGIN:VEVENT
DTSTART;VALUE=DATE:20240421
DTEND;VALUE=DATE:20240422
DTSTAMP:20260424T021653
CREATED:20231123T095048Z
LAST-MODIFIED:20250925T093957Z
UID:13646-1713657600-1713743999@cathmos.ru
SUMMARY:Сбор пожертвований на нужды Духовной Семинарии
DESCRIPTION:
URL:https://cathmos.ru/event/sbor-pozhertvovanij-na-nuzhdy-duhovnoj-seminarii/
CATEGORIES:Целевые сборы,Церковный календарь
END:VEVENT
BEGIN:VEVENT
DTSTART;VALUE=DATE:20240421
DTEND;VALUE=DATE:20240422
DTSTAMP:20260424T021653
CREATED:20240327T073128Z
LAST-MODIFIED:20240906T134200Z
UID:14670-1713657600-1713743999@cathmos.ru
SUMMARY:Отец Яцек Дудка\, OP — день рождения
DESCRIPTION:
URL:https://cathmos.ru/event/dr-o-yaczek-dudka-op/
CATEGORIES:Дни рождения
END:VEVENT
BEGIN:VEVENT
DTSTART;VALUE=DATE:20240421
DTEND;VALUE=DATE:20240422
DTSTAMP:20260424T021653
CREATED:20240327T073830Z
LAST-MODIFIED:20240327T073830Z
UID:14684-1713657600-1713743999@cathmos.ru
SUMMARY:Отец Иван Младинео - годовщина рукоположения
DESCRIPTION:
URL:https://cathmos.ru/event/otecz-ivan-mladineo-godovshhina-rukopolozheniya/
CATEGORIES:Рукоположения
END:VEVENT
END:VCALENDAR