BEGIN:VCALENDAR
VERSION:2.0
PRODID:-//Централизованная религиозная организация Римско-католическая Архиепархия Божией Матери в Москве - ECPv6.15.20//NONSGML v1.0//EN
CALSCALE:GREGORIAN
METHOD:PUBLISH
X-ORIGINAL-URL:https://cathmos.ru
X-WR-CALDESC:Мероприятия для Централизованная религиозная организация Римско-католическая Архиепархия Божией Матери в Москве
REFRESH-INTERVAL;VALUE=DURATION:PT1H
X-Robots-Tag:noindex
X-PUBLISHED-TTL:PT1H
BEGIN:VTIMEZONE
TZID:Europe/Moscow
BEGIN:STANDARD
TZOFFSETFROM:+0300
TZOFFSETTO:+0300
TZNAME:MSK
DTSTART:20230101T000000
END:STANDARD
END:VTIMEZONE
BEGIN:VEVENT
DTSTART;VALUE=DATE:20240420
DTEND;VALUE=DATE:20240421
DTSTAMP:20260424T160749
CREATED:20240327T073726Z
LAST-MODIFIED:20240327T073726Z
UID:14682-1713571200-1713657599@cathmos.ru
SUMMARY:Отец Мадейчык Адам Юзеф\, SVD - годовщина рукоположения
DESCRIPTION:
URL:https://cathmos.ru/event/otecz-madejchyk-adam-yuzef-svd-godovshhina-rukopolozheniya/
CATEGORIES:Рукоположения
END:VEVENT
BEGIN:VEVENT
DTSTART;VALUE=DATE:20240420
DTEND;VALUE=DATE:20240421
DTSTAMP:20260424T160749
CREATED:20240327T074244Z
LAST-MODIFIED:20240906T134128Z
UID:14696-1713571200-1713657599@cathmos.ru
SUMMARY:Отец Ежи Ягодзиньски\, SVD — день рождения
DESCRIPTION:
URL:https://cathmos.ru/event/dr-ezhi-yagodzinski-svd/
CATEGORIES:Дни рождения
END:VEVENT
END:VCALENDAR