BEGIN:VCALENDAR
VERSION:2.0
PRODID:-//Централизованная религиозная организация Римско-католическая Архиепархия Божией Матери в Москве - ECPv6.15.20//NONSGML v1.0//EN
CALSCALE:GREGORIAN
METHOD:PUBLISH
X-WR-CALNAME:Централизованная религиозная организация Римско-католическая Архиепархия Божией Матери в Москве
X-ORIGINAL-URL:https://cathmos.ru
X-WR-CALDESC:Мероприятия для Централизованная религиозная организация Римско-католическая Архиепархия Божией Матери в Москве
REFRESH-INTERVAL;VALUE=DURATION:PT1H
X-Robots-Tag:noindex
X-PUBLISHED-TTL:PT1H
BEGIN:VTIMEZONE
TZID:Europe/Moscow
BEGIN:STANDARD
TZOFFSETFROM:+0300
TZOFFSETTO:+0300
TZNAME:MSK
DTSTART:20230101T000000
END:STANDARD
END:VTIMEZONE
BEGIN:VEVENT
DTSTART;VALUE=DATE:20240413
DTEND;VALUE=DATE:20240414
DTSTAMP:20260425T044438
CREATED:20210407T063447Z
LAST-MODIFIED:20240326T072447Z
UID:7876-1712966400-1713052799@cathmos.ru
SUMMARY:Св. Мартин I\, папа и мученик: память
DESCRIPTION:Св. Мартин родился около 590 г. в г. Тудертум (совр. Тоди — Умбрия\, Италия). Был Папой в 649-653 г. Созвал Латеранский Синод в 649 г.\, на котором была осуждена ересь монофелитства (исповедование наличия у Христа только божественной воли и отсутствия человеческой). Это было воспринято как дерзкий акт неповиновения сторонником монофелитства императором Константином II\, по приказу которого Папа Мартин был доставлен в Константинополь\, где был предан суду и после пыток отправлен в ссылку в Крым. Умер в 655 г. в Херсонесе (Севастополь). Как последнего Папу-мученика\, св. Мартина широко почитали не только в Западной Церкви\, но и на Руси.
URL:https://cathmos.ru/event/sv-martin-i-papa-i-muchenik-pamyat/
CATEGORIES:Церковный календарь
ATTACH;FMTTYPE=image/jpeg:https://cathmos.ru/wp-content/uploads/2021/04/news486c81daec037faefaff58c8b4b3f655.jpg
END:VEVENT
BEGIN:VEVENT
DTSTART;TZID=Europe/Moscow:20240413T120000
DTEND;TZID=Europe/Moscow:20240413T133000
DTSTAMP:20260425T044438
CREATED:20240408T124201Z
LAST-MODIFIED:20240408T124341Z
UID:14817-1713009600-1713015000@cathmos.ru
SUMMARY:Святая Месса освящения храма Благовещения Господня в Озёрске
DESCRIPTION:
URL:https://cathmos.ru/event/svyataya-messa-osvyashheniya-hrama-blagoveshheniya-gospodnya-v-ozyorske/
CATEGORIES:Календарь вспомогательного епископа
END:VEVENT
END:VCALENDAR