BEGIN:VCALENDAR
VERSION:2.0
PRODID:-//Централизованная религиозная организация Римско-католическая Архиепархия Божией Матери в Москве - ECPv6.15.20//NONSGML v1.0//EN
CALSCALE:GREGORIAN
METHOD:PUBLISH
X-ORIGINAL-URL:https://cathmos.ru
X-WR-CALDESC:Мероприятия для Централизованная религиозная организация Римско-католическая Архиепархия Божией Матери в Москве
REFRESH-INTERVAL;VALUE=DURATION:PT1H
X-Robots-Tag:noindex
X-PUBLISHED-TTL:PT1H
BEGIN:VTIMEZONE
TZID:Europe/Moscow
BEGIN:STANDARD
TZOFFSETFROM:+0300
TZOFFSETTO:+0300
TZNAME:MSK
DTSTART:20230101T000000
END:STANDARD
END:VTIMEZONE
BEGIN:VEVENT
DTSTART;VALUE=DATE:20240331
DTEND;VALUE=DATE:20240401
DTSTAMP:20260426T043443
CREATED:20231122T164329Z
LAST-MODIFIED:20240906T134252Z
UID:13623-1711843200-1711929599@cathmos.ru
SUMMARY:Отец Йозеф Гунчага — день рождения
DESCRIPTION:
URL:https://cathmos.ru/event/dr-o-jozef-gunchaga/
CATEGORIES:Дни рождения
END:VEVENT
BEGIN:VEVENT
DTSTART;TZID=Europe/Moscow:20240331T093000
DTEND;TZID=Europe/Moscow:20240331T120000
DTSTAMP:20260426T043443
CREATED:20240301T123644Z
LAST-MODIFIED:20240301T123644Z
UID:14520-1711877400-1711886400@cathmos.ru
SUMMARY:Крестный ход и Святая Месса Торжества Пасхи утром в Кафедральном соборе
DESCRIPTION:
URL:https://cathmos.ru/event/krestnyj-hod-i-svyataya-messa-torzhestva-pashi-utrom-v-kafedralnom-sobore/
CATEGORIES:Календарь Архиепископа
END:VEVENT
BEGIN:VEVENT
DTSTART;TZID=Europe/Moscow:20240331T120000
DTEND;TZID=Europe/Moscow:20240331T133000
DTSTAMP:20260426T043443
CREATED:20240301T124515Z
LAST-MODIFIED:20240301T124515Z
UID:14540-1711886400-1711891800@cathmos.ru
SUMMARY:Святая Месса Торжества Пасхи в храме Лурдской Божией Матери
DESCRIPTION:
URL:https://cathmos.ru/event/svyataya-messa-torzhestva-pashi-v-hrame-lurdskoj-bozhiej-materi/
CATEGORIES:Календарь вспомогательного епископа
END:VEVENT
END:VCALENDAR