BEGIN:VCALENDAR
VERSION:2.0
PRODID:-//Централизованная религиозная организация Римско-католическая Архиепархия Божией Матери в Москве - ECPv6.15.20//NONSGML v1.0//EN
CALSCALE:GREGORIAN
METHOD:PUBLISH
X-WR-CALNAME:Централизованная религиозная организация Римско-католическая Архиепархия Божией Матери в Москве
X-ORIGINAL-URL:https://cathmos.ru
X-WR-CALDESC:Мероприятия для Централизованная религиозная организация Римско-католическая Архиепархия Божией Матери в Москве
REFRESH-INTERVAL;VALUE=DURATION:PT1H
X-Robots-Tag:noindex
X-PUBLISHED-TTL:PT1H
BEGIN:VTIMEZONE
TZID:Europe/Moscow
BEGIN:STANDARD
TZOFFSETFROM:+0300
TZOFFSETTO:+0300
TZNAME:MSK
DTSTART:20250101T000000
END:STANDARD
END:VTIMEZONE
BEGIN:VEVENT
DTSTART;VALUE=DATE:20260602
DTEND;VALUE=DATE:20260603
DTSTAMP:20260423T103139
CREATED:20250925T084312Z
LAST-MODIFIED:20250925T084312Z
UID:18935-1780358400-1780444799@cathmos.ru
SUMMARY:Москва - Пастырская встреча
DESCRIPTION:
URL:https://cathmos.ru/event/moskva-pastyrskaya-vstrecha-6/
CATEGORIES:События
END:VEVENT
BEGIN:VEVENT
DTSTART;VALUE=DATE:20260610
DTEND;VALUE=DATE:20260611
DTSTAMP:20260423T103139
CREATED:20250925T084352Z
LAST-MODIFIED:20250925T084352Z
UID:18937-1781049600-1781135999@cathmos.ru
SUMMARY:25 лет рукоположения о. Сергия Зуева
DESCRIPTION:
URL:https://cathmos.ru/event/25-let-rukopolozheniya-o-sergiya-zueva/
CATEGORIES:Юбилеи
END:VEVENT
BEGIN:VEVENT
DTSTART;VALUE=DATE:20260612
DTEND;VALUE=DATE:20260613
DTSTAMP:20260423T103139
CREATED:20250925T084432Z
LAST-MODIFIED:20250925T084432Z
UID:18939-1781222400-1781308799@cathmos.ru
SUMMARY:Киров - Приход Святейшего Сердца Иисуса: престольный праздник
DESCRIPTION:
URL:https://cathmos.ru/event/kirov-prihod-svyatejshego-serdcza-iisusa-prestolnyj-prazdnik/
CATEGORIES:Церковный календарь
END:VEVENT
BEGIN:VEVENT
DTSTART;VALUE=DATE:20260616
DTEND;VALUE=DATE:20260617
DTSTAMP:20260423T103139
CREATED:20250925T084456Z
LAST-MODIFIED:20250925T084456Z
UID:18941-1781568000-1781654399@cathmos.ru
SUMMARY:25 лет рукоположения о. Кшиштофа Терепки
DESCRIPTION:
URL:https://cathmos.ru/event/25-let-rukopolozheniya-o-kshishtofa-terepki/
CATEGORIES:Юбилеи
END:VEVENT
BEGIN:VEVENT
DTSTART;VALUE=DATE:20260627
DTEND;VALUE=DATE:20260628
DTSTAMP:20260423T103139
CREATED:20250925T084628Z
LAST-MODIFIED:20250925T084628Z
UID:18943-1782518400-1782604799@cathmos.ru
SUMMARY:Брянск - Приход Неустанной Помощи Божией Матери: престольный праздник
DESCRIPTION:
URL:https://cathmos.ru/event/bryansk-prihod-neustannoj-pomoshhi-bozhiej-materi-prestolnyj-prazdnik/
CATEGORIES:Церковный календарь
END:VEVENT
BEGIN:VEVENT
DTSTART;VALUE=DATE:20260628
DTEND;VALUE=DATE:20260629
DTSTAMP:20260423T103139
CREATED:20250925T084704Z
LAST-MODIFIED:20250925T094010Z
UID:18945-1782604800-1782691199@cathmos.ru
SUMMARY:Все приходы - Сбор для благотворительной деятельности Папы («Грош святого Петра»)
DESCRIPTION:
URL:https://cathmos.ru/event/vse-prihody-sbor-dlya-blagotvoritelnoj-deyatelnosti-papy-grosh-svyatogo-petra/
CATEGORIES:Целевые сборы
END:VEVENT
BEGIN:VEVENT
DTSTART;VALUE=DATE:20260629
DTEND;VALUE=DATE:20260630
DTSTAMP:20260423T103139
CREATED:20250925T084806Z
LAST-MODIFIED:20250925T084806Z
UID:18947-1782691200-1782777599@cathmos.ru
SUMMARY:Москва и Архангельск - Приходы святых апостолов Петра и Павла: престольный праздник
DESCRIPTION:
URL:https://cathmos.ru/event/moskva-i-arhangelsk-prihody-svyatyh-apostolov-petra-i-pavla-prestolnyj-prazdnik/
CATEGORIES:Церковный календарь
END:VEVENT
BEGIN:VEVENT
DTSTART;VALUE=DATE:20260629
DTEND;VALUE=DATE:20260630
DTSTAMP:20260423T103139
CREATED:20250925T084843Z
LAST-MODIFIED:20250925T093610Z
UID:18949-1782691200-1782777599@cathmos.ru
SUMMARY:Тула - Приход Рождества Богородицы: престольный праздник (храма)
DESCRIPTION:
URL:https://cathmos.ru/event/tula-prihod-rozhdestva-bogorodiczy-prestolnyj-prazdnik/
CATEGORIES:Церковный календарь
END:VEVENT
END:VCALENDAR